BEGIN:VCALENDAR
VERSION:2.0
PRODID:-//TYPO3/NONSGML Calendarize//EN
BEGIN:VEVENT
UID:calendarize-alberto-torresan-alberta-bellussi
DTSTAMP:20260421T151057Z
DTSTART:20260510T090000Z
DTEND:20260510T100000Z
SUMMARY:Alberto TORRESAN & Alberta BELLUSSI
DESCRIPTION:presentano La mia partita continua - Alba Edizioni. In collabo
 razione con AIL Treviso.\n\nÈ il libro di una storia vera: forte\, spieta
 ta ma allo stesso tempo delicata\, fortunata e positiva. È il racconto di
  una malattia tremenda che arriva all’improvviso\, durante una domenica\
 , come tante\, nella quale Alberto giocava la solita partita di calcio con
  la sua squadra e da quel momento cambia tutto. Diagnosi: mieloma multiplo
 . Il libro “La mia partita continua” nasce dal diario che Alberto ha s
 critto durante la sua malattia\, pagine consegnate all’amica Alberta che
  ha cercato di raccontare la storia cogliendo il dolore\, ma anche tutte l
 e sfumature di una partita con la vita raccontata dal protagonista. È un 
 messaggio di speranza per far capire ai giovani l’importanza di iscriver
 si al Registro Nazionale Italiano Donatori IBMDR per poter dare una nuova 
 speranza di vita a un malato in attesa di trapianto con un gesto semplice:
  un semplice prelievo di sangue.\n\nAlberto Torresan è un ex calciatore a
 matoriale che nel 2019 affronta un mieloma multiplo al terzo stadio\, supe
 rando due autotrapianti e un trapianto da donatore. Oggi racconta la sua e
 sperienza nelle scuole per promuovere la cultura della donazione e ha pubb
 licato La mia partita continua\, libro che narra il suo percorso di malatt
 ia e rinascita\n\nAlberta Bellussi vive a Tezze di Piave (Treviso). Provie
 ne da una famiglia che\, da più di un secolo\, si dedica con amore al vin
 o e alla vite\, lasciando alla storia delle invenzioni conosciute in tutto
  il mondo come il sistema di allevamento della vite chiamato Bellussera e 
 il rimedio contro la peronospora con la calce viva. Laureata in Lingue e L
 etterature Straniere\, ama l’arte\, la letteratura\, tutto ciò che rigu
 arda Venezia\, la cultura veneta\, le tradizioni\, la cucina\, la poesia\,
  le persone speciali e i viaggi. Oltre a essere imprenditrice agricola\, c
 ollabora con la testata Oggitreviso.it e Il Quindicinale. Per Alba edizion
 i ha scritto "Mi son veneta"\, "Maria e le storie di una volta" e "La bion
 dina in gondoleta".
X-ALT-DESC;FMTTYPE=text/html:<p>presentano<em><strong> La mia partita cont
 inua</strong></em> - Alba Edizioni. <strong>In collaborazione con AIL Trev
 iso.</strong></p>\n\n<p>È il libro di una storia vera: forte\, spietata m
 a allo stesso tempo delicata\, fortunata e positiva. È il racconto di una
  malattia tremenda che arriva all’improvviso\, durante una domenica\, co
 me tante\, nella quale Alberto giocava la solita partita di calcio con la 
 sua squadra e da quel momento cambia tutto. Diagnosi: mieloma multiplo. Il
  libro “La mia partita continua” nasce dal diario che Alberto ha scrit
 to durante la sua malattia\, pagine consegnate all’amica Alberta che ha 
 cercato di raccontare la storia cogliendo il dolore\, ma anche tutte le sf
 umature di una partita con la vita raccontata dal protagonista. È un mess
 aggio di speranza per far capire ai giovani l’importanza di iscriversi a
 l Registro Nazionale Italiano Donatori IBMDR per poter dare una nuova sper
 anza di vita a un malato in attesa di trapianto con un gesto semplice: un 
 semplice prelievo di sangue.</p>\n\n<p><strong>Alberto Torresan</strong> è
  un ex calciatore amatoriale che nel 2019 affronta un mieloma multiplo al 
 terzo stadio\, superando due autotrapianti e un trapianto da donatore. Ogg
 i racconta la sua esperienza nelle scuole per promuovere la cultura della 
 donazione e ha pubblicato <em>La mia partita continua</em>\, libro che nar
 ra il suo percorso di malattia e rinascita</p>\n\n<p><strong>Alberta Bellu
 ssi </strong>vive a Tezze di Piave (Treviso). Proviene da una famiglia che
 \, da più di un secolo\, si dedica con amore al vino e alla vite\, lascia
 ndo alla storia delle invenzioni conosciute in tutto il mondo come il sist
 ema di allevamento della vite chiamato Bellussera e il rimedio contro la p
 eronospora con la calce viva. Laureata in Lingue e Letterature Straniere\,
  ama l’arte\, la letteratura\, tutto ciò che riguarda Venezia\, la cult
 ura veneta\, le tradizioni\, la cucina\, la poesia\, le persone speciali e
  i viaggi. Oltre a essere imprenditrice agricola\, collabora con la testat
 a Oggitreviso.it e Il Quindicinale. Per Alba edizioni ha scritto "Mi son v
 eneta"\, "Maria e le storie di una volta" e "La biondina in gondoleta".</p
 >
LOCATION:
END:VEVENT
END:VCALENDAR
