BEGIN:VCALENDAR
VERSION:2.0
PRODID:-//TYPO3/NONSGML Calendarize//EN
BEGIN:VEVENT
UID:calendarize-alex-bellini-2-1
DTSTAMP:20260421T150737Z
DTSTART:20260524T160000Z
DTEND:20260524T170000Z
SUMMARY:Alex BELLINI
DESCRIPTION:presenta Pensa se non ci avessi provato - Sonzogno. \n\nIl 2 
 maggio 2006 Alex Bellini approda a Fortaleza\, in Brasile\, dopo duecentov
 entisei giorni di navigazione in solitaria su una barca a remi. È la più
  lunga traversata atlantica mai compiuta\, durante la quale ha affrontato 
 uragani su un’imbarcazione leggerissima\, la conseguente perdita dei viv
 eri nel mezzo dell’oceano\, avarie tecniche\, problemi di salute\, la co
 stante solitudine e il ricordo del suo precedente fallimento. Perché due 
 anni prima aveva già tentato ed era rovinosamente naufragato a Formentera
 \, riducendo lo scafo in frantumi. Ma questa volta riesce e l’impresa\, 
 passata alla storia\, viene ripercorsa dall’autore a vent’anni di dist
 anza\, alla luce di una nuova consapevolezza.\n\nAlex Bellini è esplorato
 re\, divulgatore ambientale\, recordman e speaker. Nato ad Aprica (Sondri
 o) nel 1978\, dalle montagne impara la sua prima lezione: aggrapparsi alla
  roccia e tenere duro. Questo lo porta negli ambienti più ostili della Te
 rra a compiere imprese straordinarie: dalla maratona di 250 km nel Sahara 
 (2000) all’attraversamento dell’Alaska in slitta\; da solo in barca a 
 remi\, poi\, ha attraversato l’Oceano Atlantico (2005) e l’Oceano Paci
 fico (2008). Successivamente ha percorso a piedi il Vatnajökull\, il più
  grande ghiacciaio d’Europa\, per documentarne lo stato di salute. Nel 
 2019 ha avviato il progetto 10 Rivers 1 Ocean\, grazie al quale naviga\, 
 su zattere costruite con materiali di risulta\, i dieci fiumi più inquina
 ti di plastica al mondo. Sui canali social è una delle voci di divulgazi
 one ambientale più ascoltate e apprezzate in Italia\, raccogliendo attorn
 o a sé una vivace e numerosa community.
X-ALT-DESC;FMTTYPE=text/html:<p>presenta <em><strong>Pensa se non ci avess
 i provato</strong></em> - Sonzogno.&nbsp\;</p>\n\n<p>Il 2 maggio 2006 Alex
  Bellini approda a Fortaleza\, in Brasile\, dopo duecentoventisei giorni d
 i navigazione in solitaria su una barca a remi. È la più lunga traversat
 a atlantica mai compiuta\, durante la quale ha affrontato uragani su un’
 imbarcazione leggerissima\, la conseguente perdita dei viveri nel mezzo de
 ll’oceano\, avarie tecniche\, problemi di salute\, la costante solitudin
 e e il ricordo del suo precedente fallimento. Perché due anni prima aveva
  già tentato ed era rovinosamente naufragato a Formentera\, riducendo lo 
 scafo in frantumi. Ma questa volta riesce e l’impresa\, passata alla sto
 ria\, viene ripercorsa dall’autore a vent’anni di distanza\, alla luce
  di una nuova consapevolezza.</p>\n\n<p><strong>Alex Bellini </strong>è e
 sploratore\, divulgatore ambientale\, recordman e speaker.&nbsp\;Nato ad A
 prica (Sondrio) nel 1978\, dalle montagne impara la sua prima lezione: agg
 rapparsi alla roccia e tenere duro. Questo lo porta negli ambienti più os
 tili della Terra a compiere imprese straordinarie: dalla maratona di 250 k
 m nel Sahara (2000) all’attraversamento dell’Alaska in slitta\; da sol
 o in barca a remi\, poi\, ha attraversato l’Oceano Atlantico (2005) e l’
 Oceano Pacifico (2008). Successivamente ha percorso a piedi il Vatnajökul
 l\, il più grande ghiacciaio d’Europa\, per documentarne lo stato di sa
 lute.&nbsp\;Nel 2019 ha avviato il progetto&nbsp\;<em>10 Rivers 1 Ocean</e
 m>\, grazie al quale naviga\, su zattere costruite con materiali di risult
 a\, i dieci fiumi più inquinati di plastica al mondo.&nbsp\;Sui canali so
 cial è una delle voci di divulgazione ambientale più ascoltate e apprezz
 ate in Italia\, raccogliendo attorno a sé una vivace e numerosa community
 .</p>
LOCATION:
END:VEVENT
END:VCALENDAR
