BEGIN:VCALENDAR
VERSION:2.0
PRODID:-//TYPO3/NONSGML Calendarize//EN
BEGIN:VEVENT
UID:calendarize-angelo-floramo-2
DTSTAMP:20260421T150549Z
DTSTART:20260524T090000Z
DTEND:20260524T100000Z
SUMMARY:Angelo FLORAMO
DESCRIPTION:presenta L'estate indiana del '76 - Bottega Errante. Ne parla 
 con Paolo Colombatti.\n\nSiamo tra San Daniele e Gemona\, tra operai jugos
 lavi e militari canadesi\, fantasmi notturni che svolazzano tra le macerie
 \, figure indimenticabili che forse non sono mai esistite\, se non nella f
 ervida immaginazione di un bambino... Un bambino che sapeva trasformare pe
 rfino una tenda militare in un accampamento indiano e il profilo di una mo
 ntagna nella faccia di quell'Orco che talvolta si risveglia\, goloso com'è
  di case\, paesi e carne umana. E così la tragedia del terremoto in Friul
 i si trasforma in un'opportunità di crescita\, mentre sullo sfondo muore\
 , sepolta sotto le macerie\, la civiltà contadina.\n\nAngelo floramo nato
  a Udine nel 1966\, insegna Storia e Letteratura al Magrini Marchetti di G
 emona ed è ancora convinto che malgrado tutto sia il mestiere più bello 
 del mondo. Medievista per formazione\, ha pubblicato molti saggi e articol
 i specialistici\, collabora con diverse riviste nazionali ed estere\; dal 
 2012 collabora con la Biblioteca Guarneriana di San Daniele del Friuli in 
 veste di consulente scientifico. Per Bottega Errante Edizioni ha pubblicat
 o Guarneriana Segreta (2015\, finalista al premio Latisana Nordest)\, L
 ’osteria dei passi perduti (nuova edizione 2024)\, La veglia di Ljuba 
 (2018\, Premio Palmastoria come miglior romanzo storico)\, Il fiume a bor
 do (2020)\, Come papaveri rossi (2021\, Premio Fiuggi Storia)\, Vino e
  libertà (2023\, selezione Premio Vermentino)\, Breve storia sentimenta
 le dei Balcani (2024)\, Vita nei campi (2025) e L’estate indiana del
  ’76 (2026). A gennaio 2024 è stato insignito del prestigioso Premio 
 Nonino Risit d’Aur.
X-ALT-DESC;FMTTYPE=text/html:<p>presenta <em><strong>L'estate indiana del 
 '76</strong></em> - Bottega Errante. Ne parla con Paolo Colombatti.</p>\n\
 n<p>Siamo tra San Daniele e Gemona\, tra operai jugoslavi e militari canad
 esi\, fantasmi notturni che svolazzano tra le macerie\, figure indimentica
 bili che forse non sono mai esistite\, se non nella fervida immaginazione 
 di un bambino... Un bambino che sapeva trasformare perfino una tenda milit
 are in un accampamento indiano e il profilo di una montagna nella faccia d
 i quell'Orco che talvolta si risveglia\, goloso com'è di case\, paesi e c
 arne umana. E così la tragedia del terremoto in Friuli si trasforma in un
 'opportunità di crescita\, mentre sullo sfondo muore\, sepolta sotto le m
 acerie\, la civiltà contadina.</p>\n\n<p><strong>Angelo floramo </strong>
 nato a Udine nel 1966\, insegna Storia e Letteratura al Magrini Marchetti 
 di Gemona ed è ancora convinto che malgrado tutto sia il mestiere più be
 llo del mondo. Medievista per formazione\, ha pubblicato molti saggi e art
 icoli specialistici\, collabora con diverse riviste nazionali ed estere\; 
 dal 2012 collabora con la Biblioteca Guarneriana di San Daniele del Friuli
  in veste di consulente scientifico. Per Bottega Errante Edizioni ha pubbl
 icato&nbsp\;<em>Guarneriana Segreta</em>&nbsp\;(2015\, finalista al premio
  Latisana Nordest)\,&nbsp\;<em>L’osteria dei passi perduti</em>&nbsp\;(n
 uova edizione 2024)\,&nbsp\;<em>La veglia di Ljuba</em>&nbsp\;(2018\, Prem
 io Palmastoria come miglior romanzo storico)\,&nbsp\;<em>Il fiume a bordo<
 /em>&nbsp\;(2020)\,&nbsp\;<em>Come papaveri rossi</em>&nbsp\;(2021\, Premi
 o Fiuggi Storia)\,&nbsp\;<em>Vino e libertà</em>&nbsp\;(2023\, selezione 
 Premio Vermentino)\,&nbsp\;<em>Breve storia sentimentale dei Balcani</em>&
 nbsp\;(2024)\,&nbsp\;<em>Vita nei campi&nbsp\;</em>(2025) e&nbsp\;<em>L’
 estate indiana del ’76&nbsp\;</em>(2026).&nbsp\;A gennaio 2024 è stato 
 insignito del prestigioso Premio Nonino Risit d’Aur.</p>
LOCATION:
END:VEVENT
END:VCALENDAR
