BEGIN:VCALENDAR
VERSION:2.0
PRODID:-//TYPO3/NONSGML Calendarize//EN
BEGIN:VEVENT
UID:calendarize-antonio-caiazza
DTSTAMP:20260421T151626Z
DTSTART:20260514T160000Z
DTEND:20260514T170000Z
SUMMARY:Antonio CAIAZZA
DESCRIPTION:presenta Una storia scomoda - Bibliotheka. Ne parla con Marti
 na Vocci.\n\nDocumenti inediti rinvenuti negli archivi diplomatici in giro
  per l’Europa ricostruiscono una vicenda ancora del tutto sconosciuta\, 
 che riguarda la lavorazione di un film con Marcello Mastroianni\, Michel P
 iccoli\, Anouk Aimée e un quasi esordiente Sergio Castellitto. Il film\,
  diretto da Luciano Tovoli era Il generale dell’armata morta\, tratto d
 al romanzo dello scrittore albanese Ismail Kadare. Le riprese erano previ
 ste fra il 1980 e il 1982\, in Albania\, dove i fatti raccontati avvennero
  realmente. Ma dopo contatti\, viaggi e sopralluoghi e il denaro versato a
 lla Banca di Stato albanese\, la troupe fu imbarcata su un aereo e rimanda
 ta in Italia\, senza che fosse girato neppure un metro di pellicola. I do
 cumenti consultati negli archivi diplomatici raccontano la trama che cercò
  di bloccare la lavorazione della pellicola. Gli apparati di due grandi de
 mocrazie\, Italia e Francia\, esercitarono una notevole pressione nei conf
 ronti dell’Albania affinché il film non si facesse. Il motivo: riapriv
 a la pagina dell’occupazione fascista\, delle atrocità e delle vessazio
 ni nei confronti delle popolazioni civili\, che a Roma si voleva chiusa pe
 r sempre. Il film si fece comunque\, fu girato in Italia e uscì nel 1983
 \, ma nel nostro Paese non vide mai le sale cinematografiche.\n\nAntonio C
 aiazza giornalista alla redazione Rai di Trieste\, ha seguito per anni le
  vicende Balcaniche per diverse testate. In particolare\, all’Albania h
 a dedicato diversi servizi televisivi\, articoli e due libri: In alto mar
 e. Viaggio nell’Albania dal comunismo al futuro (Instar Libri 2008) e i
 l romanzo La notte dei vinti (Nutrimenti 2014)\, racconto della sanguino
 sa epurazione che colpì la nomenklatura di Tirana a metà degli anni ’7
 0. 
X-ALT-DESC;FMTTYPE=text/html:<p>presenta <em><strong>Una storia scomoda</s
 trong></em> -&nbsp\;Bibliotheka. Ne parla con Martina Vocci.</p>\n\n<p>Doc
 umenti inediti rinvenuti negli archivi diplomatici in giro per l’Europa 
 ricostruiscono una vicenda ancora del tutto sconosciuta\, che riguarda la 
 lavorazione di un film con Marcello Mastroianni\, Michel Piccoli\, Anouk A
 imée e un quasi esordiente Sergio Castellitto.&nbsp\;Il film\, diretto da
  Luciano Tovoli era&nbsp\;<em>Il generale dell’armata morta</em>\, tratt
 o dal romanzo dello scrittore albanese Ismail Kadare.&nbsp\;Le riprese era
 no previste fra il 1980 e il 1982\, in Albania\, dove i fatti raccontati a
 vvennero realmente. Ma dopo contatti\, viaggi e sopralluoghi e il denaro v
 ersato alla Banca di Stato albanese\, la troupe fu imbarcata su un aereo e
  rimandata in Italia\, senza che fosse girato neppure un metro di pellicol
 a. I&nbsp\;documenti consultati negli archivi diplomatici raccontano la tr
 ama che cercò di bloccare la lavorazione della pellicola. Gli apparati di
  due grandi democrazie\, Italia e Francia\, esercitarono una notevole pres
 sione nei confronti dell’Albania affinché il film non si facesse.&nbsp\
 ;Il motivo: riapriva la pagina dell’occupazione fascista\, delle atrocit
 à e delle vessazioni nei confronti delle popolazioni civili\, che a Roma 
 si voleva chiusa per sempre.&nbsp\;Il film si fece comunque\, fu girato in
  Italia e uscì nel 1983\, ma nel nostro Paese non vide mai le sale cinema
 tografiche.</p>\n\n<p><strong>Antonio Caiazza&nbsp\;</strong>giornalista a
 lla redazione Rai di Trieste\, ha seguito per anni le vicende Balcaniche p
 er diverse testate.&nbsp\;In particolare\, all’Albania ha dedicato diver
 si servizi televisivi\, articoli e due libri:&nbsp\;<em>In alto mare. Viag
 gio nell’Albania dal comunismo al futuro</em>&nbsp\;(Instar Libri 2008) 
 e il romanzo&nbsp\;<em>La notte dei vinti</em>&nbsp\;(Nutrimenti 2014)\, r
 acconto della sanguinosa epurazione che colpì la nomenklatura di Tirana a
  metà degli anni ’70.&nbsp\;</p>
LOCATION:
END:VEVENT
END:VCALENDAR
