BEGIN:VCALENDAR
VERSION:2.0
PRODID:-//TYPO3/NONSGML Calendarize//EN
BEGIN:VEVENT
UID:calendarize-ben-pastor-1
DTSTAMP:20260421T150605Z
DTSTART:20260521T160000Z
DTEND:20260521T170000Z
SUMMARY:Ben PASTOR
DESCRIPTION:presenta Lo specchio del pellegrino - Sellerio. Ne parla con A
 lessandro Mezzena Lona\n\nRussia\, 26 ottobre 1941. Il capitano Martin Bor
 a ha un braccio rotto\, è sopravvissuto miracolosamente a una cattura e a
  una fuga rocambolesca dietro le linee. Nonostante sia ferito ed esausto\,
  nel cuore della notte riceve dai suoi superiori un incarico inatteso: far
 e luce sulla morte del maggiore Alt\, «caduto sul campo». L’indagine p
 erò si trasforma ben presto in un pellegrinaggio attraverso gli atroci ma
 ssacri nazisti compiuti sul fronte orientale. Muovendosi tra le strade di 
 Odessa\, dove le SS hanno appena compiuto terribili rappresaglie contro la
  popolazione in gran parte ebraica\, il malinconico Martin Bora inizia a s
 ospettare che il maggiore Alt non è semplicemente caduto sul campo\, che 
 forse c’è qualcosa di più. \n\nScrittrice italoamericana\, all'anagra
 fe Maria Verbena Volpi\, nata a Roma ma trasferitasi ben presto negli Sta
 ti Uniti\, ha insegnato Scienze sociali presso le università dell'Ohio\, 
 dell'Illinois e del Vermont. Oltre a Lumen\, Luna bugiarda\, Kaputt Mundi
 \, La canzone del cavaliere\, Il morto in piazza\, La Venere di Salò\,  
 Il cielo di stagno\, - ovvero il ciclo del soldato-detective Martin Bora (
 pubblicati da Hobby&Work a partire dal 2001 e poi da Sellerio) - è autric
 e di I misteri di Praga (2002)\, La camera dello scirocco\, omaggi in g
 iallo alla cultura mitteleuropea di Kafka e Roth (Hobby &Work)\, nonché d
 e Il ladro d'acqua (Frassinelli 2007)\, La voce del fuoco (Frassinelli
  2008)\, Le vergini di pietra e La traccia del vento (Hobby & Work 201
 2)\, una serie di quattro thriller ambientata nel IV secolo dopo Cristo. 
 Nel 2006 ha vinto il Premio Internazionale Saturno d'oro come migliore scr
 ittrice di romanzi storici. Le sue opere sono pubblicate negli Stati Uniti
  e in numerosi Paesi europei. Un suo racconto è incluso nell'antologia 
 Un Natale in giallo (Sellerio 2011). Nel 2014 esce La strada per Itaca 
 (Sellerio) e nel 2020 Il ladro d'acqua (Mondadori). Nel 2023 esce per S
 ellerio La finestra sui tetti e altri racconti con Martin Bora.
X-ALT-DESC;FMTTYPE=text/html:<p>presenta <em><strong>Lo specchio del pelle
 grino</strong></em> - Sellerio. Ne parla con Alessandro Mezzena Lona</p>\n
 \n<p>Russia\, 26 ottobre 1941. Il capitano Martin Bora ha un braccio rotto
 \, è sopravvissuto miracolosamente a una cattura e a una fuga rocambolesc
 a dietro le linee. Nonostante sia ferito ed esausto\, nel cuore della nott
 e riceve dai suoi superiori un incarico inatteso: fare luce sulla morte de
 l maggiore Alt\, «caduto sul campo». L’indagine però si trasforma ben
  presto in un pellegrinaggio attraverso gli atroci massacri nazisti compiu
 ti sul fronte orientale. Muovendosi tra le strade di Odessa\, dove le SS h
 anno appena compiuto terribili rappresaglie contro la popolazione in gran 
 parte ebraica\, il malinconico Martin Bora inizia a sospettare che il magg
 iore Alt non è semplicemente caduto sul campo\, che forse c’è qualcosa
  di più.&nbsp\;</p>\n\n<p>Scrittrice italoamericana\, all'anagrafe&nbsp\;
 <strong>Maria Verbena Volpi</strong>\, nata a Roma ma trasferitasi ben pre
 sto negli Stati Uniti\, ha insegnato Scienze sociali presso le università
  dell'Ohio\, dell'Illinois e del Vermont. Oltre a&nbsp\;<em>Lumen\, Luna b
 ugiarda\, Kaputt Mundi\, La canzone del cavaliere\, Il morto in piazza\, L
 a Venere di Salò\,&nbsp\;</em>&nbsp\;<em>Il cielo di stagno</em>\, - ovve
 ro il ciclo del soldato-detective Martin Bora (pubblicati da Hobby&amp\;Wo
 rk a partire dal 2001 e poi da Sellerio) - è autrice di<em>&nbsp\;I miste
 ri di Praga</em>&nbsp\;(2002)\,&nbsp\;<em>La camera dello scirocco</em>\, 
 omaggi in giallo alla cultura mitteleuropea di Kafka e Roth (Hobby &amp\;W
 ork)\, nonché de&nbsp\;<em>Il ladro d'acqua</em>&nbsp\;(Frassinelli 2007)
 \,&nbsp\;<em>La voce del fuoco</em>&nbsp\;(Frassinelli 2008)\,&nbsp\;<em>L
 e vergini di pietra&nbsp\;</em>e&nbsp\;<em>La traccia del vento</em>&nbsp\
 ;(Hobby &amp\; Work 2012)\, una serie di quattro thriller ambientata nel I
 V secolo dopo Cristo.&nbsp\;Nel 2006 ha vinto il Premio Internazionale Sat
 urno d'oro come migliore scrittrice di romanzi storici. Le sue opere sono 
 pubblicate negli Stati Uniti e in numerosi Paesi europei.&nbsp\;Un suo rac
 conto è incluso nell'antologia&nbsp\;<em>Un Natale in giallo</em>&nbsp\;(
 Sellerio 2011).&nbsp\;Nel 2014 esce&nbsp\;<em>La strada per Itaca&nbsp\;</
 em>(Sellerio) e nel 2020&nbsp\;<em>Il ladro d'acqua</em>&nbsp\;(Mondadori)
 .&nbsp\;Nel 2023 esce per Sellerio&nbsp\;<em>La finestra sui tetti e altri
  racconti con Martin Bora.</em></p>
LOCATION:
END:VEVENT
END:VCALENDAR
