BEGIN:VCALENDAR
VERSION:2.0
PRODID:-//TYPO3/NONSGML Calendarize//EN
BEGIN:VEVENT
UID:calendarize-ben-pastor
DTSTAMP:20260421T151633Z
DTSTART:20260522T163000Z
DTEND:20260522T173000Z
SUMMARY:Ben PASTOR
DESCRIPTION:presenta Lo specchio del pellegrino - Sellerio.\n\nRussia\, 26
  ottobre 1941. Il capitano Martin Bora ha un braccio rotto\, è sopravviss
 uto miracolosamente a una cattura e a una fuga rocambolesca dietro le line
 e. Nonostante sia ferito ed esausto\, nel cuore della notte riceve dai suo
 i superiori un incarico inatteso: fare luce sulla morte del maggiore Alt\,
  «caduto sul campo». L’indagine però si trasforma ben presto in un pe
 llegrinaggio attraverso gli atroci massacri nazisti compiuti sul fronte or
 ientale. Muovendosi tra le strade di Odessa\, dove le SS hanno appena comp
 iuto terribili rappresaglie contro la popolazione in gran parte ebraica\, 
 il malinconico Martin Bora inizia a sospettare che il maggiore Alt non è 
 semplicemente caduto sul campo\, che forse c’è qualcosa di più. \n\nS
 crittrice italoamericana\, all'anagrafe Maria Verbena Volpi\, nata a Roma
  ma trasferitasi ben presto negli Stati Uniti\, ha insegnato Scienze socia
 li presso le università dell'Ohio\, dell'Illinois e del Vermont. Oltre a 
 Lumen\, Luna bugiarda\, Kaputt Mundi\, La canzone del cavaliere\, Il morto
  in piazza\, La Venere di Salò\,  Il cielo di stagno\, - ovvero il cicl
 o del soldato-detective Martin Bora (pubblicati da Hobby&Work a partire da
 l 2001 e poi da Sellerio) - è autrice di I misteri di Praga (2002)\, L
 a camera dello scirocco\, omaggi in giallo alla cultura mitteleuropea di K
 afka e Roth (Hobby &Work)\, nonché de Il ladro d'acqua (Frassinelli 200
 7)\, La voce del fuoco (Frassinelli 2008)\, Le vergini di pietra e La
  traccia del vento (Hobby & Work 2012)\, una serie di quattro thriller am
 bientata nel IV secolo dopo Cristo. Nel 2006 ha vinto il Premio Internazi
 onale Saturno d'oro come migliore scrittrice di romanzi storici. Le sue op
 ere sono pubblicate negli Stati Uniti e in numerosi Paesi europei. Un suo
  racconto è incluso nell'antologia Un Natale in giallo (Sellerio 2011).
  Nel 2014 esce La strada per Itaca (Sellerio) e nel 2020 Il ladro d'ac
 qua (Mondadori). Nel 2023 esce per Sellerio La finestra sui tetti e alt
 ri racconti con Martin Bora.
X-ALT-DESC;FMTTYPE=text/html:<p>presenta <em><strong>Lo specchio del pelle
 grino</strong></em> - Sellerio.</p>\n\n<p>Russia\, 26 ottobre 1941. Il cap
 itano Martin Bora ha un braccio rotto\, è sopravvissuto miracolosamente a
  una cattura e a una fuga rocambolesca dietro le linee. Nonostante sia fer
 ito ed esausto\, nel cuore della notte riceve dai suoi superiori un incari
 co inatteso: fare luce sulla morte del maggiore Alt\, «caduto sul campo»
 . L’indagine però si trasforma ben presto in un pellegrinaggio attraver
 so gli atroci massacri nazisti compiuti sul fronte orientale. Muovendosi t
 ra le strade di Odessa\, dove le SS hanno appena compiuto terribili rappre
 saglie contro la popolazione in gran parte ebraica\, il malinconico Martin
  Bora inizia a sospettare che il maggiore Alt non è semplicemente caduto 
 sul campo\, che forse c’è qualcosa di più.&nbsp\;</p>\n\n<p>Scrittrice
  italoamericana\, all'anagrafe&nbsp\;<strong>Maria Verbena Volpi</strong>\
 , nata a Roma ma trasferitasi ben presto negli Stati Uniti\, ha insegnato 
 Scienze sociali presso le università dell'Ohio\, dell'Illinois e del Verm
 ont. Oltre a&nbsp\;<em>Lumen\, Luna bugiarda\, Kaputt Mundi\, La canzone d
 el cavaliere\, Il morto in piazza\, La Venere di Salò\,&nbsp\;</em>&nbsp\
 ;<em>Il cielo di stagno</em>\, - ovvero il ciclo del soldato-detective Mar
 tin Bora (pubblicati da Hobby&amp\;Work a partire dal 2001 e poi da Seller
 io) - è autrice di<em>&nbsp\;I misteri di Praga</em>&nbsp\;(2002)\,&nbsp\
 ;<em>La camera dello scirocco</em>\, omaggi in giallo alla cultura mittele
 uropea di Kafka e Roth (Hobby &amp\;Work)\, nonché de&nbsp\;<em>Il ladro 
 d'acqua</em>&nbsp\;(Frassinelli 2007)\,&nbsp\;<em>La voce del fuoco</em>&n
 bsp\;(Frassinelli 2008)\,&nbsp\;<em>Le vergini di pietra&nbsp\;</em>e&nbsp
 \;<em>La traccia del vento</em>&nbsp\;(Hobby &amp\; Work 2012)\, una serie
  di quattro thriller ambientata nel IV secolo dopo Cristo.&nbsp\;Nel 2006 
 ha vinto il Premio Internazionale Saturno d'oro come migliore scrittrice d
 i romanzi storici. Le sue opere sono pubblicate negli Stati Uniti e in num
 erosi Paesi europei.&nbsp\;Un suo racconto è incluso nell'antologia&nbsp\
 ;<em>Un Natale in giallo</em>&nbsp\;(Sellerio 2011).&nbsp\;Nel 2014 esce&n
 bsp\;<em>La strada per Itaca&nbsp\;</em>(Sellerio) e nel 2020&nbsp\;<em>Il
  ladro d'acqua</em>&nbsp\;(Mondadori).&nbsp\;Nel 2023 esce per Sellerio&nb
 sp\;<em>La finestra sui tetti e altri racconti con Martin Bora.</em></p>
LOCATION:
END:VEVENT
END:VCALENDAR
