BEGIN:VCALENDAR
VERSION:2.0
PRODID:-//TYPO3/NONSGML Calendarize//EN
BEGIN:VEVENT
UID:calendarize-colin-walsh
DTSTAMP:20260419T173532Z
DTSTART:20260422T163000Z
DTEND:20260422T173000Z
SUMMARY:Colin WALSH
DESCRIPTION:presenta Kala - Fazi editore. Ne parla con Gaia Lapasini. \n
 \nChe fine ha fatto Kala? A Kinlough\, una cittadina irlandese che si affa
 ccia sul mare\, è l'estate del 2003. Un gruppo di amici quindicenni sta v
 ivendo il momento più bello della vita: i primi amori\, le prime sbronze\
 , l'amicizia viscerale come può esserlo solo a quell'età. È un'estate v
 issuta come se dovesse durare in eterno. È l'estate che cambierà per sem
 pre le loro vite. Kala Lanann\, carismatica leader del gruppo\, trasgressi
 va e spericolata\, al culmine di quella stagione scomparirà senza lasciar
 e traccia. Quindici anni dopo\, tre dei vecchi amici si ritrovano nella ci
 ttadina. Mentre passato e presente cominciano a sovrapporsi\, i tre amici 
 sono costretti a confrontarsi ancora con la tragedia che li lega\, cercand
 o di mettere fine a quella storia una volta per tutte. \n\nColin Walsh è
  uno scrittore irlandese originario di Galway. I suoi racconti\, vincitori
  di numerosi premi letterari\, sono apparsi su riviste come The Stinging 
 Fly e The Irish Times\, oltre ad essere trasmessi da RTE Radio 1 e BBC R
 adio 4. Nel 2019 è stato nominato Hennessy New Irish Writer of the Year.
  Il suo romanzo d’esordio\, Kala (Fazi\, 2025)\, è stato un bestsell
 er internazionale\, ha vinto l’Irish Book Award for Newcomer of the Year
  ed è stato selezionato tra i migliori libri dell’anno da The Guardia
 n\, NPR\, GQ e The Independent.
X-ALT-DESC;FMTTYPE=text/html:<p>presenta <em><strong>Kala</strong></em>&nb
 sp\;- Fazi editore. Ne parla con Gaia Lapasini.&nbsp\;</p>\n\n<p>Che fine 
 ha fatto Kala? A Kinlough\, una cittadina irlandese che si affaccia sul ma
 re\, è l'estate del 2003. Un gruppo di amici quindicenni sta vivendo il m
 omento più bello della vita: i primi amori\, le prime sbronze\, l'amicizi
 a viscerale come può esserlo solo a quell'età. È un'estate vissuta come
  se dovesse durare in eterno. È l'estate che cambierà per sempre le loro
  vite. Kala Lanann\, carismatica leader del gruppo\, trasgressiva e speric
 olata\, al culmine di quella stagione scomparirà senza lasciare traccia. 
 Quindici anni dopo\, tre dei vecchi amici si ritrovano nella cittadina. Me
 ntre passato e presente cominciano a sovrapporsi\, i tre amici sono costre
 tti a confrontarsi ancora con la tragedia che li lega\, cercando di metter
 e fine a quella storia una volta per tutte.&nbsp\;</p>\n\n<p><strong>Colin
  Walsh</strong> è uno scrittore irlandese originario di Galway. I suoi ra
 cconti\, vincitori di numerosi premi letterari\, sono apparsi su riviste c
 ome&nbsp\;<em>The Stinging Fly</em>&nbsp\;e&nbsp\;<em>The Irish Times</em>
 \, oltre ad essere trasmessi da RTE Radio 1 e BBC Radio 4. Nel 2019 è sta
 to nominato&nbsp\;Hennessy New Irish Writer of the Year.&nbsp\;Il suo roma
 nzo d’esordio\,<em>&nbsp\;Kala</em>&nbsp\;(Fazi\, 2025)\, è stato un be
 stseller internazionale\, ha vinto l’<em>Irish Book Award for Newcomer o
 f the Year</em>&nbsp\;ed è stato selezionato tra i migliori libri dell’
 anno da&nbsp\;<em>The Guardian</em>\,&nbsp\;<em>NPR</em>\,&nbsp\;<em>GQ</e
 m>&nbsp\;e&nbsp\;<em>The Independent</em>.</p>
LOCATION:
END:VEVENT
END:VCALENDAR
