BEGIN:VCALENDAR
VERSION:2.0
PRODID:-//TYPO3/NONSGML Calendarize//EN
BEGIN:VEVENT
UID:calendarize-csaba-dalla-zorza-1
DTSTAMP:20260421T151638Z
DTSTART:20260508T163000Z
DTEND:20260508T173000Z
SUMMARY:Csaba DALLA ZORZA 
DESCRIPTION:presenta Io sono Adele - Marsilio editore. \n\nAdele Casagra
 nde ha sessant’anni\, un passato di cui non vuole parlare e un lavoro t
 utto nuovo. Si è trasferita da Milano in Provenza\, a Villeneuve-lès-Av
 ignon\, come governante in una casa privata. Qui si trova da sola a ricuc
 ire i pezzi di una famiglia che non è la sua\, ma anche a fare i conti c
 on i motivi che l’hanno spinta a tagliare di netto con la vita precedent
 e\, mentre tutti vorrebbero sapere ciò che lei protegge con il silenzio.
  Csaba dalla Zorza\, con passo certo e delicato\, rivela poco alla volta 
 la parte privata della vita di una donna che\, vista da fuori\, sembra av
 ere tutto. Io sono Adele è il racconto intimo di una donna che sfida con
 tinuamente se stessa\, alla ricerca dell’unico coraggio che non ha mai a
 vuto: essere felice. Sapendo che per farlo dovrà infrangere le sue stess
 e regole.\n\nCsaba dalla Zorza avrebbe voluto diventare una scrittrice di 
 romanzi quando aveva diciassette anni\, ma la vita per lei aveva altri pi
 ani. Ha iniziato nel marketing\, ha vissuto nel Sud della Francia\, è to
 rnata in Italia\, si è dedicata a scrivere di cucina e di buone maniere.
  Ventitré libri dopo\, ha trovato il coraggio di misurarsi con la narrat
 iva scrivendo il suo esordio La governante\, pubblicato da Marsilio nel 2
 025. Io sono Adele è il suo secondo romanzo.\n\nFoto di Francesco Dolfo /
  Living Inside
X-ALT-DESC;FMTTYPE=text/html:<p>presenta <em><strong>Io sono Adele </stron
 g></em>-&nbsp\;Marsilio editore.&nbsp\;</p>\n\n<p>Adele Casagrande ha sess
 ant’anni\, un passato&nbsp\;di cui non vuole parlare e un lavoro tutto n
 uovo. Si è trasferita da Milano in&nbsp\;Provenza\, a Villeneuve-lès-Avi
 gnon\, come governante in una casa privata. Qui si&nbsp\;trova da sola a r
 icucire i pezzi di una famiglia che non è la sua\, ma anche a fare i&nbsp
 \;conti con i motivi che l’hanno spinta a tagliare di netto con la vita 
 precedente\,&nbsp\;mentre tutti vorrebbero sapere ciò che lei protegge co
 n il silenzio. Csaba dalla&nbsp\;Zorza\, con passo certo e delicato\, rive
 la poco alla volta la parte privata della vita&nbsp\;di una donna che\, vi
 sta da fuori\, sembra avere tutto. Io sono Adele è il racconto intimo di 
 una donna che sfida&nbsp\;continuamente se stessa\, alla ricerca dell’un
 ico coraggio che non ha mai avuto:&nbsp\;essere felice. Sapendo che per fa
 rlo dovrà infrangere le sue stesse regole.</p>\n\n<p><strong>Csaba dalla 
 Zorza </strong>avrebbe voluto diventare una scrittrice di romanzi quando&n
 bsp\;aveva diciassette anni\, ma la vita per lei aveva altri piani. Ha ini
 ziato nel&nbsp\;marketing\, ha vissuto nel Sud della Francia\, è tornata 
 in Italia\, si è dedicata a&nbsp\;scrivere di cucina e di buone maniere. 
 Ventitré libri dopo\, ha trovato il coraggio di&nbsp\;misurarsi con la na
 rrativa scrivendo il suo esordio La governante\, pubblicato da&nbsp\;Marsi
 lio nel 2025. Io sono Adele è il suo secondo romanzo.</p>\n\n<p><em>Foto 
 di Francesco Dolfo / Living Inside</em></p>
LOCATION:
END:VEVENT
END:VCALENDAR
