BEGIN:VCALENDAR
VERSION:2.0
PRODID:-//TYPO3/NONSGML Calendarize//EN
BEGIN:VEVENT
UID:calendarize-elena-commessatti
DTSTAMP:20260419T133148Z
DTSTART:20260424T160000Z
DTEND:20260424T170000Z
SUMMARY:Elena COMMESSATTI 
DESCRIPTION:presenta Il tempo delle viole - Newton & Compton. Ne parla co
 n Alessandro Mezzena Lona.\n\nFriuli\, 31 dicembre 1888. Aurora ha undici 
 anni e vive a Carpacco\, un piccolo paese affacciato sul Tagliamento\, il 
 re dei fiumi alpini. Parla con le Agane\, le fate delle acque\, e sta a st
 retto contatto con le donne della filanda. A Udine\, Bianca\, quattordicen
 ne raffinata e curiosa\, assiste all'accensione delle prime luci elettrich
 e della città\, simbolo di un progresso che la affascina e la ispira. Poc
 o distante\, la coetanea Viola\, orfana e ribelle\, viene cresciuta nel pa
 lazzo Antivari Kechler\, dove è a servizio la zia cuoca\, e riceve le vis
 ite di un fantasma\, una donna morta anni prima a Pola. Le loro vite\, cos
 ì diverse\, si intrecciano come i rami del Tagliamento in un'Italia che s
 i affaccia al nuovo secolo tra modernità e tradizione. Insieme daranno vi
 ta a una società segreta femminile\, le Viole di Udine\, dedicata a prote
 ggere e sostenere le donne in un'epoca in cui essere libere è un atto riv
 oluzionario. \n\nElena Commessatti è autrice e giornalista. Negli ultim
 i anni le sue parole sono dedicate a scoprire luoghi\, persone e vicende d
 imenticate del Friuli Venezia Giulia. Collabora alle pagine culturali del 
 «Messaggero Veneto» e realizza e conduce programmi radiofonici per la se
 de Rai regionale. Nel 2013 si è inventata le guide turistiche italiane in
 centro per l’editore Odòs di cui è autrice e direttrice di collana. Da
 l 2008 segue il cold case del “Mostro di Udine” e con l’invenzione d
 el personaggio letterario di Agata Est ha riacceso l’interesse sul macab
 ro caso di cronaca nera ancora irrisolto. Il tempo delle viole è il suo
  primo romanzo pubblicato dalla Newton Compton.
X-ALT-DESC;FMTTYPE=text/html:<p>presenta&nbsp\;<em><strong>Il tempo delle 
 viole</strong></em> - Newton &amp\; Compton. Ne parla con Alessandro Mezze
 na Lona.</p>\n\n<p>Friuli\, 31 dicembre 1888. Aurora ha undici anni e vive
  a Carpacco\, un piccolo paese affacciato sul Tagliamento\, il re dei fium
 i alpini. Parla con le Agane\, le fate delle acque\, e sta a stretto conta
 tto con le donne della filanda. A Udine\, Bianca\, quattordicenne raffinat
 a e curiosa\, assiste all'accensione delle prime luci elettriche della cit
 tà\, simbolo di un progresso che la affascina e la ispira. Poco distante\
 , la coetanea Viola\, orfana e ribelle\, viene cresciuta nel palazzo Antiv
 ari Kechler\, dove è a servizio la zia cuoca\, e riceve le visite di un f
 antasma\, una donna morta anni prima a Pola. Le loro vite\, così diverse\
 , si intrecciano come i rami del Tagliamento in un'Italia che si affaccia 
 al nuovo secolo tra modernità e tradizione. Insieme daranno vita a una so
 cietà segreta femminile\, le Viole di Udine\, dedicata a proteggere e sos
 tenere le donne in un'epoca in cui essere libere è un atto rivoluzionario
 .&nbsp\;</p>\n\n<p><strong>Elena Commessatti</strong>&nbsp\;è autrice e g
 iornalista. Negli ultimi anni le sue parole sono dedicate a scoprire luogh
 i\, persone e vicende dimenticate del Friuli Venezia Giulia. Collabora all
 e pagine culturali del «Messaggero Veneto» e realizza e conduce programm
 i radiofonici per la sede Rai regionale. Nel 2013 si è inventata le guide
  turistiche italiane incentro per l’editore Odòs di cui è autrice e di
 rettrice di collana. Dal 2008 segue il cold case del “Mostro di Udine”
  e con l’invenzione del personaggio letterario di Agata Est ha riacceso 
 l’interesse sul macabro caso di cronaca nera ancora irrisolto.&nbsp\;<em
 >Il tempo delle viole</em>&nbsp\;è il suo primo romanzo pubblicato dalla 
 Newton Compton.</p>
LOCATION:
END:VEVENT
END:VCALENDAR
