BEGIN:VCALENDAR
VERSION:2.0
PRODID:-//TYPO3/NONSGML Calendarize//EN
BEGIN:VEVENT
UID:calendarize-elena-varvello
DTSTAMP:20260421T151633Z
DTSTART:20260523T160000Z
DTEND:20260523T170000Z
SUMMARY:Elena VARVELLO
DESCRIPTION:presenta La vita sempre - Guanda. Ne parla con Azzurra Berald
 o\n\nFrancesco è un ragazzo bello\, incorreggibilmente bugiardo\, pieno d
 i vita. Diventerà un uomo dal fascino sfrontato e irresistibile\, un sedu
 ttore\, un giocatore d'azzardo che crede nella fortuna amica\, un disertor
 e\, un fuggiasco. Teresa\, al contrario\, è nata in una «via di pezzenti
 »\, grandi occhi scuri e spalle esili ma volontà di ferro. Diventerà un
 a studentessa serissima\, la sola del suo cortile a diplomarsi\, una giova
 ne donna che tiene a bada i propri sogni. I due non potrebbero essere più
  distanti\, eppure si attraggono per quell'impeto della vita che sovrasta 
 ogni cosa\, anche il fascismo\, anche la guerra\, anche la povertà.\n\nEl
 ena Varvello è nata a Torino\, dove è docente presso la Scuola Holden. H
 a pubblicato le raccolte di poesie Perseveranza è salutare e Atlanti. 
 Con la raccolta di racconti L’economia delle cose (2007) ha vinto il P
 remio Settembrini e il Premio Bagutta Opera Prima\, ed è stata selezionat
 a dal Premio Strega. Nel2011 ha pubblicato il suo primo romanzo\, La luce
  perfetta del giorno. Il secondo romanzo\, La vita felice (2016)\, trado
 tto in numerosi Paesi\, è stato uno dei libri di narrativa straniera più
  venduti in Gran Bretagna nel 2018.Nel 2020 è uscito Solo un ragazzo. 
X-ALT-DESC;FMTTYPE=text/html:<p>presenta<em><strong> La vita sempre</stron
 g></em> - Guanda. Ne parla con&nbsp\;Azzurra Beraldo</p>\n\n<p>Francesco è
  un ragazzo bello\, incorreggibilmente bugiardo\, pieno di vita. Diventerà
  un uomo dal fascino sfrontato e irresistibile\, un seduttore\, un giocato
 re d'azzardo che crede nella fortuna amica\, un disertore\, un fuggiasco. 
 Teresa\, al contrario\, è nata in una «via di pezzenti»\, grandi occhi 
 scuri e spalle esili ma volontà di ferro. Diventerà una studentessa seri
 ssima\, la sola del suo cortile a diplomarsi\, una giovane donna che tiene
  a bada i propri sogni. I due non potrebbero essere più distanti\, eppure
  si attraggono per quell'impeto della vita che sovrasta ogni cosa\, anche 
 il fascismo\, anche la guerra\, anche la povertà.</p>\n\n<p><strong>Elena
  Varvello</strong> è nata a Torino\, dove è docente presso la Scuola Hol
 den. Ha pubblicato le raccolte di poesie&nbsp\;<em>Perseveranza è salutar
 e</em>&nbsp\;e&nbsp\;<em>Atlanti</em>. Con la raccolta di racconti&nbsp\;<
 em>L’economia delle cose</em>&nbsp\;(2007) ha vinto il Premio Settembrin
 i e il Premio Bagutta Opera Prima\, ed è stata selezionata dal Premio Str
 ega. Nel2011 ha pubblicato il suo primo romanzo\,&nbsp\;<em>La luce perfet
 ta del giorno</em>. Il secondo romanzo\,<em>&nbsp\;La vita felice</em>&nbs
 p\;(2016)\, tradotto in numerosi Paesi\, è stato uno dei libri di narrati
 va straniera più venduti in Gran Bretagna nel 2018.Nel 2020 è uscito&nbs
 p\;<em>Solo un ragazzo</em>.&nbsp\;</p>
LOCATION:
END:VEVENT
END:VCALENDAR
