BEGIN:VCALENDAR
VERSION:2.0
PRODID:-//TYPO3/NONSGML Calendarize//EN
BEGIN:VEVENT
UID:calendarize-il-trabiccolo-dei-sogni-76-4-4-3-1-1-2
DTSTAMP:20260419T132852Z
DTSTART:20260423T150000Z
DTEND:20260423T160000Z
SUMMARY:IL TRABICCOLO DEI SOGNI 
DESCRIPTION:C'ERA UNA VOLTA... - Anche nelle fiabe gli animali viaggiano\,
  chi per trovare i suoi simili\, chi per trovare la libertà\n\n\n\n
X-ALT-DESC;FMTTYPE=text/html:<p><strong>C'ERA UNA VOLTA...</strong> - Anch
 e nelle fiabe gli animali viaggiano\, chi per trovare i suoi simili\, chi 
 per trovare la libertà</p>\n\n\n\n
LOCATION:
END:VEVENT
END:VCALENDAR
