BEGIN:VCALENDAR
VERSION:2.0
PRODID:-//TYPO3/NONSGML Calendarize//EN
BEGIN:VEVENT
UID:calendarize-il-trabiccolo-dei-sogni-76-4-4-3-1-1-3
DTSTAMP:20260421T122541Z
DTSTART:20260430T150000Z
DTEND:20260430T160000Z
SUMMARY:IL TRABICCOLO DEI SOGNI 
DESCRIPTION:PIANTE IN VIAGGIO - Sembra impossibile ma anche le piante viag
 giano!  
X-ALT-DESC;FMTTYPE=text/html:<p><strong>PIANTE IN VIAGGIO</strong> - Sembr
 a impossibile ma anche le piante viaggiano!<br /> &nbsp\;</p>
LOCATION:
END:VEVENT
END:VCALENDAR
