BEGIN:VCALENDAR
VERSION:2.0
PRODID:-//TYPO3/NONSGML Calendarize//EN
BEGIN:VEVENT
UID:calendarize-leonardo-mendolicchio-1
DTSTAMP:20260419T134554Z
DTSTART:20260423T160000Z
DTEND:20260423T170000Z
SUMMARY:Leonardo MENDOLICCHIO
DESCRIPTION:presenta Diventerai uomo - Mondadori editore. Ne parla con Em
 ily Menguzzato\n\nLeonardo Mendolicchio\, psichiatra e psicoanalista che c
 on i ragazzi lavora da anni\, attinge alla propria esperienza personale e 
 professionale per indagare cosa significhi essere maschi oggi\, tra corpo 
 e desiderio\, vulnerabilità e modelli culturali\, fragilità e trasformaz
 ioni. E propone una nuova strategia educativa\, che aiuti gli adulti – g
 enitori\, insegnanti\, educatori – ad accompagnare i ragazzi verso una v
 irilità più libera\, capace di accogliere le emozioni senza vergogna. P
 erché il disagio maschile nasce da qui: dal mito dell’uomo forte che im
 pone ai ragazzi di essere sempre vincenti\, dominanti\, e così facendo li
  opprime e li mortifica. Mendolicchio ci ricorda che crescere un figlio n
 on significa dirgli chi deve essere\, ma stargli accanto mentre lo scopre\
 , e mostrargli che si può essere uomini anche quando si cade\, quando si 
 cambia\, quando si chiede aiuto. \n\nLeonardo Mendolicchio è psichiatra
 \, psicoanalista\, membro della Scuola lacaniana di psicoanalisi e dell’
 Associazione mondiale di psicoanalisi. Direttore del Centro disturbi del c
 omportamento alimentare dell’Istituto auxologico italiano\, è fondatore
  del progetto Food For Mind per la diffusione dell’esperienza di cura de
 i disturbi alimentari. Ha scritto diversi saggi\, tra cui Fragili (2024)
  e L’amore è un sintomo (2025)\, ed è consulente e autore di program
 mi televisivi di divulgazione come «Fame d’amore» su Rai3 e «Persone 
 Medicina » su Real Time.\n\n
X-ALT-DESC;FMTTYPE=text/html:<p>presenta <em><strong>Diventerai uomo</stro
 ng></em> - Mondadori editore. Ne parla con&nbsp\;Emily Menguzzato</p>\n\n<
 p>Leonardo Mendolicchio\, psichiatra e psicoanalista che con i ragazzi lav
 ora da anni\, attinge alla propria esperienza personale e professionale pe
 r indagare cosa significhi essere maschi oggi\, tra corpo e desiderio\, vu
 lnerabilità e modelli culturali\, fragilità e trasformazioni. E propone 
 una nuova strategia educativa\, che aiuti gli adulti – genitori\, insegn
 anti\, educatori – ad accompagnare i ragazzi verso una virilità più li
 bera\, capace di accogliere le emozioni senza vergogna.&nbsp\;Perché il d
 isagio maschile nasce da qui: dal mito dell’uomo forte che impone ai rag
 azzi di essere sempre vincenti\, dominanti\, e così facendo li opprime e 
 li mortifica.&nbsp\;Mendolicchio ci ricorda che crescere un figlio non sig
 nifica dirgli chi deve essere\, ma stargli accanto mentre lo scopre\, e mo
 strargli che si può essere uomini anche quando si cade\, quando si cambia
 \, quando si chiede aiuto.&nbsp\;</p>\n\n<p><strong>Leonardo Mendolicchio<
 /strong>&nbsp\;è psichiatra\, psicoanalista\, membro della Scuola lacania
 na di psicoanalisi e dell’Associazione mondiale di psicoanalisi. Diretto
 re del Centro disturbi del comportamento alimentare dell’Istituto auxolo
 gico italiano\, è fondatore del progetto Food For Mind per la diffusione 
 dell’esperienza di cura dei disturbi alimentari. Ha scritto diversi sagg
 i\, tra cui&nbsp\;<em>Fragili</em>&nbsp\;(2024) e&nbsp\;<em>L’amore è u
 n sintomo</em>&nbsp\;(2025)\, ed è consulente e autore di programmi telev
 isivi di divulgazione come «Fame d’amore» su Rai3 e «Persone Medicina
  » su Real Time.</p>\n\n
LOCATION:
END:VEVENT
END:VCALENDAR
