BEGIN:VCALENDAR
VERSION:2.0
PRODID:-//TYPO3/NONSGML Calendarize//EN
BEGIN:VEVENT
UID:calendarize-leonardo-mendolicchio
DTSTAMP:20260419T131948Z
DTSTART:20260424T163000Z
DTEND:20260424T173000Z
SUMMARY:Leonardo MENDOLICCHIO
DESCRIPTION:presenta Diventerai uomo - Mondadori editore. Ne parla con Sim
 one Pizzioli\n\nLeonardo Mendolicchio\, psichiatra e psicoanalista che con
  i ragazzi lavora da anni\, attinge alla propria esperienza personale e pr
 ofessionale per indagare cosa significhi essere maschi oggi\, tra corpo e 
 desiderio\, vulnerabilità e modelli culturali\, fragilità e trasformazio
 ni. E propone una nuova strategia educativa\, che aiuti gli adulti – gen
 itori\, insegnanti\, educatori – ad accompagnare i ragazzi verso una vir
 ilità più libera\, capace di accogliere le emozioni senza vergogna. Per
 ché il disagio maschile nasce da qui: dal mito dell’uomo forte che impo
 ne ai ragazzi di essere sempre vincenti\, dominanti\, e così facendo li o
 pprime e li mortifica. Mendolicchio ci ricorda che crescere un figlio non
  significa dirgli chi deve essere\, ma stargli accanto mentre lo scopre\, 
 e mostrargli che si può essere uomini anche quando si cade\, quando si ca
 mbia\, quando si chiede aiuto. \n\nLeonardo Mendolicchio è psichiatra\,
  psicoanalista\, membro della Scuola lacaniana di psicoanalisi e dell’As
 sociazione mondiale di psicoanalisi. Direttore del Centro disturbi del com
 portamento alimentare dell’Istituto auxologico italiano\, è fondatore d
 el progetto Food For Mind per la diffusione dell’esperienza di cura dei 
 disturbi alimentari. Ha scritto diversi saggi\, tra cui Fragili (2024) e
  L’amore è un sintomo (2025)\, ed è consulente e autore di programmi
  televisivi di divulgazione come «Fame d’amore» su Rai3 e «Persone Me
 dicina » su Real Time.\n\n
X-ALT-DESC;FMTTYPE=text/html:<p>presenta <em><strong>Diventerai uomo</stro
 ng></em> - Mondadori editore. Ne parla con Simone Pizzioli</p>\n\n<p>Leona
 rdo Mendolicchio\, psichiatra e psicoanalista che con i ragazzi lavora da 
 anni\, attinge alla propria esperienza personale e professionale per indag
 are cosa significhi essere maschi oggi\, tra corpo e desiderio\, vulnerabi
 lità e modelli culturali\, fragilità e trasformazioni. E propone una nuo
 va strategia educativa\, che aiuti gli adulti – genitori\, insegnanti\, 
 educatori – ad accompagnare i ragazzi verso una virilità più libera\, 
 capace di accogliere le emozioni senza vergogna.&nbsp\;Perché il disagio 
 maschile nasce da qui: dal mito dell’uomo forte che impone ai ragazzi di
  essere sempre vincenti\, dominanti\, e così facendo li opprime e li mort
 ifica.&nbsp\;Mendolicchio ci ricorda che crescere un figlio non significa 
 dirgli chi deve essere\, ma stargli accanto mentre lo scopre\, e mostrargl
 i che si può essere uomini anche quando si cade\, quando si cambia\, quan
 do si chiede aiuto.&nbsp\;</p>\n\n<p><strong>Leonardo Mendolicchio</strong
 >&nbsp\;è psichiatra\, psicoanalista\, membro della Scuola lacaniana di p
 sicoanalisi e dell’Associazione mondiale di psicoanalisi. Direttore del 
 Centro disturbi del comportamento alimentare dell’Istituto auxologico it
 aliano\, è fondatore del progetto Food For Mind per la diffusione dell’
 esperienza di cura dei disturbi alimentari. Ha scritto diversi saggi\, tra
  cui&nbsp\;<em>Fragili</em>&nbsp\;(2024) e&nbsp\;<em>L’amore è un sinto
 mo</em>&nbsp\;(2025)\, ed è consulente e autore di programmi televisivi d
 i divulgazione come «Fame d’amore» su Rai3 e «Persone Medicina » su 
 Real Time.</p>\n\n
LOCATION:
END:VEVENT
END:VCALENDAR
