BEGIN:VCALENDAR
VERSION:2.0
PRODID:-//TYPO3/NONSGML Calendarize//EN
BEGIN:VEVENT
UID:calendarize-maradona-youssef
DTSTAMP:20260421T150737Z
DTSTART:20260520T160000Z
DTEND:20260520T170000Z
SUMMARY:Maradona YOUSSEF
DESCRIPTION:presenta Mezé\, miracoli e disastri - Solferino. Segue picco
 la degustazione     \n\nMaradona Youssef: già dal nome si intuisce una
  vita insolita. Battezzato in onore della passione calcistica del padre Je
 an\, primo e adorato figlio maschio di una famiglia paterna di militari e 
 una famiglia materna di medici\, nasce nel 1986 e cresce nel Libano in gue
 rra. La pace\, per Maradona\, è in un unico posto: la cucina. Anni dopo\,
  trasferitosi in Italia per studiare\, quell’arte gastronomica appresa a
 iutando la nonna\, la madre e la zia diventerà a sorpresa il suo lavoro\,
  quello di uno chef impegnato a portare nel suo nuovo Paese la ricchezza d
 i sapore e significato della sua terra. Un memoir come un romanzo vero\, u
 n’educazione sentimentale che ci offre uno spaccato intimo\, originale e
  vivo della questione mediorientale. Le ricette irresistibili che arricchi
 scono i capitoli uniscono i due mondi dell’autore\, Italia e Libano\, ri
 nnovando la speranza nella pace e nella convivenza tra i popoli.\n\nMARADO
 NA YOUSSEF\, nato in Libano nel 1986\, è cuoco e imprenditore. È diventa
 to noto al pubblico italiano grazie alla partecipazione a MasterChef Itali
 a 5 e All Stars\, esperienza che ha segnato l’inizio della sua visibilit
 à mediatica. Ha lavorato a Bologna con Bruno Barbieri ed è oggi partner 
 del ristorante libanese Mezè a Milano. Collabora con le ambasciate d’It
 alia e del Libano in progetti culturali volti a rafforzare il dialogo e le
  relazioni tra i due Paesi.
X-ALT-DESC;FMTTYPE=text/html:<p>presenta<em><strong>&nbsp\;Mezé\, miracol
 i e disastri </strong></em>- Solferino. Segue piccola degustazione &nbsp\;
 &nbsp\; &nbsp\;</p>\n\n<p>Maradona Youssef: già dal nome si intuisce una 
 vita insolita. Battezzato in onore della passione calcistica del padre Jea
 n\, primo e adorato figlio maschio di una famiglia paterna di militari e u
 na famiglia materna di medici\, nasce nel 1986 e cresce nel Libano in guer
 ra. La pace\, per Maradona\, è in un unico posto: la cucina. Anni dopo\, 
 trasferitosi in Italia per studiare\, quell’arte gastronomica appresa ai
 utando la nonna\, la madre e la zia diventerà a sorpresa il suo lavoro\, 
 quello di uno chef impegnato a portare nel suo nuovo Paese la ricchezza di
  sapore e significato della sua terra. Un memoir come un romanzo vero\, un
 ’educazione sentimentale che ci offre uno spaccato intimo\, originale e 
 vivo della questione mediorientale. Le ricette irresistibili che arricchis
 cono i capitoli uniscono i due mondi dell’autore\, Italia e Libano\, rin
 novando la speranza nella pace e nella convivenza tra i popoli.</p>\n\n<p>
 <strong>MARADONA YOUSSEF</strong>\, nato in Libano nel 1986\, è cuoco e i
 mprenditore. È diventato noto al pubblico italiano grazie alla partecipaz
 ione a MasterChef Italia 5 e All Stars\, esperienza che ha segnato l’ini
 zio della sua visibilità mediatica. Ha lavorato a Bologna con Bruno Barbi
 eri ed è oggi partner del ristorante libanese Mezè a Milano.<br /> Colla
 bora con le ambasciate d’Italia e del Libano in progetti culturali volti
  a rafforzare il dialogo e le relazioni tra i due Paesi.</p>
LOCATION:
END:VEVENT
END:VCALENDAR
