BEGIN:VCALENDAR
VERSION:2.0
PRODID:-//TYPO3/NONSGML Calendarize//EN
BEGIN:VEVENT
UID:calendarize-mario-giordano
DTSTAMP:20260421T124014Z
DTSTART:20260423T163000Z
DTEND:20260423T173000Z
SUMMARY:Mario GIORDANO
DESCRIPTION:presenta I re di Denari - Rizzoli editore. Ne parla con Fede
 rica Augusta Rossi\n\nIn Italia è in corso una feroce battaglia fra i gra
 ndi potenti del sistema finanziario che tocca direttamente le nostre vite.
  Eppure queste vicende\, così importanti\, sono confinate nelle pagine di
  finanza dei giornali\, che parlano di Grande Risiko\, Gioco dell’Opa\, 
 ma quasi sempre con un linguaggio incomprensibile ai più. È venuto invec
 e il momento di smascherare le vicende economiche che stanno cambiando il 
 volto del Paese. Mario Giordano lo fa\, come se fosse un grande romanzo po
 polare\, una saga in cui si scontrano i Nuovi Signori del Denaro\, i Caval
 ieri della Moneta Sonante\, che sono i veri potenti\, oltre che i veri pap
 eroni d’Italia. \n\nMario Giordano\, giornalista\, saggista\, autore e 
 conduttore televisivo\, ha diretto tra gli altri Studio Aperto\, TGcom24 e
  il TG4. Dal 2018 conduce Fuori dal coro. È editorialista della “Verità
 ”. L’ultimo libro\, pubblicato nel 2022\, è Tromboni (Rizzoli).
X-ALT-DESC;FMTTYPE=text/html:<p>presenta<em><strong>&nbsp\;I re di Denari<
 /strong></em> - Rizzoli editore. Ne parla con&nbsp\;Federica Augusta Rossi
 </p>\n\n<p>In Italia è in corso una feroce battaglia fra i grandi potenti
  del sistema finanziario che tocca direttamente le nostre vite. Eppure que
 ste vicende\, così importanti\, sono confinate nelle pagine di finanza de
 i giornali\, che parlano di Grande Risiko\, Gioco dell’Opa\, ma quasi se
 mpre con un linguaggio incomprensibile ai più. È venuto invece il moment
 o di smascherare le vicende economiche che stanno cambiando il volto del P
 aese. Mario Giordano lo fa\, come se fosse un grande romanzo popolare\, un
 a saga in cui si scontrano i Nuovi Signori del Denaro\, i Cavalieri della 
 Moneta Sonante\, che sono i veri potenti\, oltre che i veri paperoni d’I
 talia.&nbsp\;</p>\n\n<p><strong>Mario Giordano</strong>\, giornalista\, sa
 ggista\, autore e conduttore televisivo\, ha diretto tra gli altri Studio 
 Aperto\, TGcom24 e il TG4. Dal 2018 conduce Fuori dal coro. È editorialis
 ta della “Verità”. L’ultimo libro\, pubblicato nel 2022\, è Trombo
 ni (Rizzoli).</p>
LOCATION:
END:VEVENT
END:VCALENDAR
