BEGIN:VCALENDAR
VERSION:2.0
PRODID:-//TYPO3/NONSGML Calendarize//EN
BEGIN:VEVENT
UID:calendarize-massimo-gaggi-e-tamara-jadrejcic-1
DTSTAMP:20260421T124741Z
DTSTART:20260428T160000Z
DTEND:20260428T173000Z
SUMMARY:Massimo GAGGI e Tamara JADREJCIC
DESCRIPTION:presentano America dentro - Laterza. \n\nDall’Alaska\, ‘u
 ltima frontiera’ nella quale svaniscono nel nulla migliaia di persone\, 
 all’Alabama e alla Georgia dei conflitti razziali\, dalla rivolta dei Si
 oux del South Dakota contro le big oil all’Appalachia della povertà e
 strema dei bianchi\, Massimo Gaggi e Tamara Jadrejcic\, coniugi giornalist
 i\, sono stati per vent’anni testimoni di straordinari cambiamenti. Arri
 vati nel 2004\, hanno conosciuto un’America ottimista\, orgogliosa\, qua
 si euforica. Che\, però\, dopo il crollo finanziario e la Grande recessio
 ne del 2008-2009 ha smesso di credere nelle istituzioni e di fidarsi delle
  élite. Un Paese armato fino ai denti che ha cercato rifugio nel populism
 o e in cui il razzismo riemerge coi suprematisti\, sdoganati da Trump dopo
  i tentativi di riconciliazione di Obama. Diario\, reportage\, cronache\,
  testimonianza di un legame profondo con un Paese straordinario sul quale 
 grava un interrogativo fino a ieri impensabile: quello sulla tenuta della 
 democrazia.\n\nMassimo Gaggi\, editorialista del “Corriere della Sera”
 \, giornale del quale è stato anche vicedirettore\, è stato inviato e co
 rrispondente dagli Stati Uniti\, con base a New York\, dal 2004 al 2024. È
  autore di numerosi saggi\, tra i quali Crack America (2020) e Profeti\, o
 ligarchi e spie (con Franco Bernabè\, Feltrinelli 2023). Per Laterza è a
 utore di La valanga. Dalla crisi americana alla recessione globale (2009)\
 , Homo premium. Come la tecnologia ci divide (2018) e La scommessa Biden (
 2022).\n\nTamara Jadrejcic\, nata nel 1964 nella ex Jugoslavia\, oggi Croa
 zia\, ha lavorato a Zagabria come giornalista per il quotidiano “Vjesnik
 ”. Nel 1991 si trasferisce in Italia\, dove ha lavorato come traduttrice
  e giornalista e nel 2004 ha vinto il Premio letterario Italo Calvino con 
 I prigionieri di guerra\, libro di racconti ispirato al conitto nei Balcan
 i. Nel 2004 si trasferisce negli Stati Uniti\, scrivendo per il quotidiano
  croato “Jutarnji list”\, per il settimanale “Globus” e come food 
 writer per diversi siti.
X-ALT-DESC;FMTTYPE=text/html:<p>presentano <em><strong>America dentro</str
 ong></em> - Laterza.&nbsp\;</p>\n\n<p>Dall’Alaska\, ‘ultima frontiera’
  nella quale svaniscono nel nulla migliaia di persone\, all’Alabama e al
 la Georgia dei conflitti razziali\, dalla rivolta dei Sioux del South Dako
 ta contro le&nbsp\;<em>big oil&nbsp\;</em>all’Appalachia della povertà 
 estrema dei bianchi\, Massimo Gaggi e Tamara Jadrejcic\, coniugi giornalis
 ti\, sono stati per vent’anni testimoni di straordinari cambiamenti.<br 
 /> Arrivati nel 2004\, hanno conosciuto un’America ottimista\, orgoglios
 a\, quasi euforica. Che\, però\, dopo il crollo finanziario e la Grande r
 ecessione del 2008-2009 ha smesso di credere nelle istituzioni e di fidars
 i delle élite. Un Paese armato fino ai denti che ha cercato rifugio nel p
 opulismo e in cui il razzismo riemerge coi suprematisti\, sdoganati da Tru
 mp dopo i tentativi di riconciliazione di Obama.&nbsp\;Diario\, reportage\
 , cronache\, testimonianza di un legame profondo con un Paese straordinari
 o sul quale grava un interrogativo fino a ieri impensabile: quello sulla t
 enuta della democrazia.</p>\n\n<p><strong>Massimo Gaggi</strong>\, editori
 alista del “Corriere della Sera”\, giornale del quale è stato anche v
 icedirettore\, è stato inviato e corrispondente dagli Stati Uniti\, con b
 ase a New York\, dal 2004 al 2024. È autore di numerosi saggi\, tra i qua
 li Crack America (2020) e Profeti\, oligarchi e spie (con Franco Bernabè\
 , Feltrinelli 2023). Per Laterza è autore di La valanga.<br /> Dalla cris
 i americana alla recessione globale (2009)\, Homo premium. Come la tecnolo
 gia ci divide (2018) e La scommessa Biden (2022).</p>\n\n<p><strong>Tamara
  Jadrejcic</strong>\, nata nel 1964 nella ex Jugoslavia\, oggi Croazia\, h
 a lavorato a Zagabria come giornalista per il quotidiano “Vjesnik”. Ne
 l 1991 si trasferisce in Italia\, dove ha<br /> lavorato come traduttrice 
 e giornalista e nel 2004 ha vinto il Premio letterario Italo Calvino con I
  prigionieri di guerra\, libro di racconti ispirato al conitto nei Balcani
 . Nel 2004 si<br /> trasferisce negli Stati Uniti\, scrivendo per il quoti
 diano croato “Jutarnji list”\, per il settimanale “Globus” e come 
 food writer per diversi siti.</p>
LOCATION:
END:VEVENT
END:VCALENDAR
