BEGIN:VCALENDAR
VERSION:2.0
PRODID:-//TYPO3/NONSGML Calendarize//EN
BEGIN:VEVENT
UID:calendarize-massimo-gaggi-e-tamara-jadrejcic
DTSTAMP:20260421T124746Z
DTSTART:20260430T163000Z
DTEND:20260430T173000Z
SUMMARY:Massimo GAGGI e Tamara JADREJCIC
DESCRIPTION:presentano America dentro - Laterza. Ne parlano con Lorenza Ra
 ffaello\n\nDall’Alaska\, ‘ultima frontiera’ nella quale svaniscono n
 el nulla migliaia di persone\, all’Alabama e alla Georgia dei conflitti 
 razziali\, dalla rivolta dei Sioux del South Dakota contro le big oil al
 l’Appalachia della povertà estrema dei bianchi\, Massimo Gaggi e Tamara
  Jadrejcic\, coniugi giornalisti\, sono stati per vent’anni testimoni di
  straordinari cambiamenti. Arrivati nel 2004\, hanno conosciuto un’Ameri
 ca ottimista\, orgogliosa\, quasi euforica. Che\, però\, dopo il crollo f
 inanziario e la Grande recessione del 2008-2009 ha smesso di credere nelle
  istituzioni e di fidarsi delle élite. Un Paese armato fino ai denti che 
 ha cercato rifugio nel populismo e in cui il razzismo riemerge coi suprema
 tisti\, sdoganati da Trump dopo i tentativi di riconciliazione di Obama. 
 Diario\, reportage\, cronache\, testimonianza di un legame profondo con un
  Paese straordinario sul quale grava un interrogativo fino a ieri impensab
 ile: quello sulla tenuta della democrazia.\n\nMassimo Gaggi\, editorialist
 a del “Corriere della Sera”\, giornale del quale è stato anche vicedi
 rettore\, è stato inviato e corrispondente dagli Stati Uniti\, con base a
  New York\, dal 2004 al 2024. È autore di numerosi saggi\, tra i quali Cr
 ack America (2020) e Profeti\, oligarchi e spie (con Franco Bernabè\, Fel
 trinelli 2023). Per Laterza è autore di La valanga. Dalla crisi americana
  alla recessione globale (2009)\, Homo premium. Come la tecnologia ci divi
 de (2018) e La scommessa Biden (2022).\n\nTamara Jadrejcic\, nata nel 1964
  nella ex Jugoslavia\, oggi Croazia\, ha lavorato a Zagabria come giornali
 sta per il quotidiano “Vjesnik”. Nel 1991 si trasferisce in Italia\, d
 ove ha lavorato come traduttrice e giornalista e nel 2004 ha vinto il Prem
 io letterario Italo Calvino con I prigionieri di guerra\, libro di raccont
 i ispirato al conitto nei Balcani. Nel 2004 si trasferisce negli Stati Uni
 ti\, scrivendo per il quotidiano croato “Jutarnji list”\, per il setti
 manale “Globus” e come food writer per diversi siti.
X-ALT-DESC;FMTTYPE=text/html:<p>presentano <em><strong>America dentro</str
 ong></em> - Laterza. Ne parlano con Lorenza Raffaello</p>\n\n<p>Dall’Ala
 ska\, ‘ultima frontiera’ nella quale svaniscono nel nulla migliaia di 
 persone\, all’Alabama e alla Georgia dei conflitti razziali\, dalla rivo
 lta dei Sioux del South Dakota contro le&nbsp\;<em>big oil&nbsp\;</em>all’
 Appalachia della povertà estrema dei bianchi\, Massimo Gaggi e Tamara Jad
 rejcic\, coniugi giornalisti\, sono stati per vent’anni testimoni di str
 aordinari cambiamenti.<br /> Arrivati nel 2004\, hanno conosciuto un’Ame
 rica ottimista\, orgogliosa\, quasi euforica. Che\, però\, dopo il crollo
  finanziario e la Grande recessione del 2008-2009 ha smesso di credere nel
 le istituzioni e di fidarsi delle élite. Un Paese armato fino ai denti ch
 e ha cercato rifugio nel populismo e in cui il razzismo riemerge coi supre
 matisti\, sdoganati da Trump dopo i tentativi di riconciliazione di Obama.
 &nbsp\;Diario\, reportage\, cronache\, testimonianza di un legame profondo
  con un Paese straordinario sul quale grava un interrogativo fino a ieri i
 mpensabile: quello sulla tenuta della democrazia.</p>\n\n<p><strong>Massim
 o Gaggi</strong>\, editorialista del “Corriere della Sera”\, giornale 
 del quale è stato anche vicedirettore\, è stato inviato e corrispondente
  dagli Stati Uniti\, con base a New York\, dal 2004 al 2024. È autore di 
 numerosi saggi\, tra i quali Crack America (2020) e Profeti\, oligarchi e 
 spie (con Franco Bernabè\, Feltrinelli 2023). Per Laterza è autore di La
  valanga.<br /> Dalla crisi americana alla recessione globale (2009)\, Hom
 o premium. Come la tecnologia ci divide (2018) e La scommessa Biden (2022)
 .</p>\n\n<p><strong>Tamara Jadrejcic</strong>\, nata nel 1964 nella ex Jug
 oslavia\, oggi Croazia\, ha lavorato a Zagabria come giornalista per il qu
 otidiano “Vjesnik”. Nel 1991 si trasferisce in Italia\, dove ha<br /> 
 lavorato come traduttrice e giornalista e nel 2004 ha vinto il Premio lett
 erario Italo Calvino con I prigionieri di guerra\, libro di racconti ispir
 ato al conitto nei Balcani. Nel 2004 si<br /> trasferisce negli Stati Unit
 i\, scrivendo per il quotidiano croato “Jutarnji list”\, per il settim
 anale “Globus” e come food writer per diversi siti.</p>
LOCATION:
END:VEVENT
END:VCALENDAR
