BEGIN:VCALENDAR
VERSION:2.0
PRODID:-//TYPO3/NONSGML Calendarize//EN
BEGIN:VEVENT
UID:calendarize-matteo-codignola-philip-roth-portnoy-1
DTSTAMP:20260421T203305Z
DTSTART:20260509T160000Z
DTEND:20260509T180000Z
SUMMARY:Francesco DE FILIPPO - Camilleri
DESCRIPTION:Francesco DE FILIPPO racconta Camilleri. Evento organizzato 
 nell'ambito della rassegna Writers Club\, una rassegna nata per dar voce
  al sentimento di scrittori per altri scrittori\, per le loro parole\, i l
 oro libri.\n\nAndrea Camilleri rivela un volto inedito e sorprendente: non
  il familiare narratore dalla voce amabile e roca ma il maestro intellettu
 ale\, lucido\, scomodo e fedelmente imparziale. In questo libro-intervista
 \, Francesco De Filippo mette da parte l’immagine rassicurante del “pa
 dre di Montalbano” per concentrarsi su un pensatore acuto e lungimirante
 . Affrontando temi attuali – dall’intelligenza artificiale all’ambie
 nte\, dall’Europa alla filosofia\, passando per il conflitto israelo-pal
 estinese\, l’arte\, le masse e la politica – il volume presenta un “
 buon maestro” cui far riferimento per orientarsi in un mondo in rapido m
 utamento\, in maniera leggera e vibrante.\n\nFrancesco De Filippo\, scritt
 ore\, saggista e giornalista all'Agenzia Ansa\, responsabile Ansa fvg\, è
  nato Napoli. Ha vissuto a lungo a Roma\, ora è a Trieste. È stato spess
 o inviato in Italia e all’estero\; come scrittore ha pubblicato una vent
 ina di libri (per Mondadori\, Rizzoli\, Editori Riuniti\, Infinito)\, trad
 otti anche in Francia\, Germania e Repubblica Ceca. Alcune sue opere sono 
 state messe in scena in teatro.
X-ALT-DESC;FMTTYPE=text/html:<p><strong>Francesco DE FILIPPO</strong>&nbsp
 \;racconta <strong>Camilleri.</strong>&nbsp\;Evento organizzato nell'ambit
 o della rassegna&nbsp\;<em><strong>Writers Club</strong></em>\, una rasseg
 na nata per&nbsp\;<strong>dar voce al sentimento di scrittori per altri sc
 rittori\, per le loro parole\, i loro libri</strong>.</p>\n\n<p>Andrea Cam
 illeri rivela un volto inedito e sorprendente: non il familiare narratore 
 dalla voce amabile e roca ma il maestro intellettuale\, lucido\, scomodo e
  fedelmente imparziale. In questo libro-intervista\, Francesco De Filippo 
 mette da parte l’immagine rassicurante del “padre di Montalbano” per
  concentrarsi su un pensatore acuto e lungimirante. Affrontando temi attua
 li – dall’intelligenza artificiale all’ambiente\, dall’Europa alla
  filosofia\, passando per il conflitto israelo-palestinese\, l’arte\, le
  masse e la politica – il volume presenta un “buon maestro” cui far 
 riferimento per orientarsi in un mondo in rapido mutamento\, in maniera le
 ggera e vibrante.</p>\n\n<p><strong>Francesco De Filippo</strong>\, scritt
 ore\, saggista e giornalista all'Agenzia Ansa\, responsabile Ansa fvg\, è
  nato Napoli. Ha vissuto a lungo a Roma\, ora è a Trieste. È stato spess
 o inviato in Italia e all’estero\; come scrittore ha pubblicato una vent
 ina di libri (per Mondadori\, Rizzoli\, Editori Riuniti\, Infinito)\, trad
 otti anche in Francia\, Germania e Repubblica Ceca. Alcune sue opere sono 
 state messe in scena in teatro.</p>
LOCATION:
END:VEVENT
END:VCALENDAR
