BEGIN:VCALENDAR
VERSION:2.0
PRODID:-//TYPO3/NONSGML Calendarize//EN
BEGIN:VEVENT
UID:calendarize-pablo-maurette
DTSTAMP:20260419T132153Z
DTSTART:20260421T160000Z
DTEND:20260421T170000Z
SUMMARY:Pablo MAURETTE
DESCRIPTION:presenta La Niña de Oro - Sellerio. Ne parla con Fabiana Mar
 tini\n\nIn un angusto appartamento di una grigia Buenos Aires viene ritrov
 ato un cadavere\, rigido da settimane e che porta segni di tortura. Appart
 iene al professore di biologia Aníbal Doliner\, noto tra i colleghi del l
 iceo per essere un tipo solitario\, ai limiti della misantropia. Il caso s
 i preannuncia alquanto inquietante\, oltre che difficile\, perché il prof
 essore era dedito a una insolita scienza\, la teratologia\, lo studio dell
 e anomalie e delle malformazioni corporee\, e vi si dedicava maniacalmente
  nel tentativo di produrre «mostruosità».  Guida l’inchiesta la sost
 ituta procuratrice Silvia Rey\, affiancata con non troppa intesa dal vicei
 spettore Osvaldo Carrucci. La Niña de Oro è un giallo dalla sofisticat
 a precisione narrativa in cui non mancano colpi di scena\, personaggi e at
 mosfere degni di un film di David Lynch: le istituzioni non funzionano\, l
 a polizia ostacola le indagini\, mentre il soprannaturale si insinua serpe
 ntino nel quotidiano.\n\nPablo Maurette (Buenos Aires\, 1979) è laureato 
 in Filosofia\, ha un dottorato in Letteratura comparata e insegna alla Flo
 rida State University. Ha pubblicato saggi e romanzi su letteratura\, scie
 nza e storia delle idee\, e collabora con diverse testate giornalistiche i
 nternazionali\, tra cui «la Repubblica». Nel 2022 è uscito in Italia il
  suo romanzo Il tempo è un fiume.
X-ALT-DESC;FMTTYPE=text/html:<p>presenta&nbsp\;<em><strong>La Niña de Oro
 </strong></em> - Sellerio. Ne parla con Fabiana Martini</p>\n\n<p>In un an
 gusto appartamento di una grigia Buenos Aires viene ritrovato un cadavere\
 , rigido da settimane e che porta segni di tortura. Appartiene al professo
 re di biologia Aníbal Doliner\, noto tra i colleghi del liceo per essere 
 un tipo solitario\, ai limiti della misantropia. Il caso si preannuncia al
 quanto inquietante\, oltre che difficile\, perché il professore era dedit
 o a una insolita scienza\, la teratologia\, lo studio delle anomalie e del
 le malformazioni corporee\, e vi si dedicava maniacalmente nel tentativo d
 i produrre «mostruosità».&nbsp\; Guida l’inchiesta la sostituta procu
 ratrice Silvia Rey\, affiancata con non troppa intesa dal viceispettore Os
 valdo Carrucci.&nbsp\;<em>La Niña de Oro</em>&nbsp\;è un giallo dalla so
 fisticata precisione narrativa in cui non mancano colpi di scena\, persona
 ggi e atmosfere degni di un film di David Lynch: le istituzioni non funzio
 nano\, la polizia ostacola le indagini\, mentre il soprannaturale si insin
 ua serpentino nel quotidiano.</p>\n\n<p><strong>Pablo Maurette</strong> (B
 uenos Aires\, 1979) è laureato in Filosofia\, ha un dottorato in Letterat
 ura comparata e insegna alla Florida State University. Ha pubblicato saggi
  e romanzi su letteratura\, scienza e storia delle idee\, e collabora con 
 diverse testate giornalistiche internazionali\, tra cui «la Repubblica».
  Nel 2022 è uscito in Italia il suo romanzo&nbsp\;<em>Il tempo è un fium
 e</em>.</p>
LOCATION:
END:VEVENT
END:VCALENDAR
