BEGIN:VCALENDAR
VERSION:2.0
PRODID:-//TYPO3/NONSGML Calendarize//EN
BEGIN:VEVENT
UID:calendarize-pamela-pasian-e-shanti-ranchetti
DTSTAMP:20260421T150943Z
DTSTART:20260513T160000Z
DTEND:20260513T170000Z
SUMMARY:Pamela PASIAN e Shanti RANCHETTI 
DESCRIPTION:presentano Doule. Prendersi cura delle maternità - Becco Gia
 llo. Ne parlano con Carlo Maria Righetto \n\nGiulia è una doula: accomp
 agna le donne dalla gravidanza al puerperio\, offrendo ascolto e sostegno.
  Ma è anche una ricercatrice\, impegnata in uno studio sul mondo delle 
 doule. Tra interviste\, incontri e vissuti personali\, il suo percorso div
 enta un’indagine profonda sul significato della cura\, della nascita e d
 ella genitorialità. Muovendosi tra diffidenze\, incomprensioni e moment
 i di scoraggiamento\, Giulia sperimenta in prima persona quanto sia diffic
 ile attraversare mondi diversi\, come doula\, come studiosa\, come donna. 
 Nel suo lavoro incontra madri spesso sole\, sospese tra aspettative e real
 tà\, alle prese con un corpo che cambia\, ritmi sconosciuti e decisioni 
 concrete da affrontare. In un equilibrio costante tra esperienza e osserv
 azione\, Doule. Prendersi cura delle maternità racconta con sensibilit
 à e rigore la ricerca di uno spazio di relazione autentico e di fiducia\
 , in cui le donne possano essere ascoltate\, sostenute e riconosciute nei 
 loro desideri.
X-ALT-DESC;FMTTYPE=text/html:<p>presentano <em><strong>Doule. Prendersi cu
 ra delle maternità</strong></em>&nbsp\;- Becco Giallo. Ne parlano con Car
 lo Maria Righetto&nbsp\;</p>\n\n<p>Giulia è una doula: accompagna le don
 ne dalla gravidanza al puerperio\, offrendo ascolto e sostegno.&nbsp\;Ma e
 ̀ anche una ricercatrice\, impegnata in uno studio sul mondo delle doule.
  Tra interviste\, incontri e vissuti personali\, il suo percorso diventa u
 n’indagine profonda sul significato della cura\, della nascita e della g
 enitorialità.&nbsp\;Muovendosi tra diffidenze\, incomprensioni e momenti
  di scoraggiamento\, Giulia sperimenta in prima persona quanto sia diffici
 le attraversare mondi diversi\, come doula\, come studiosa\, come donna.<b
 r /> Nel suo lavoro incontra madri spesso sole\, sospese tra aspettative e
  realtà\, alle prese con un corpo che cambia\, ritmi sconosciuti e decis
 ioni concrete da affrontare.&nbsp\;In un equilibrio costante tra esperienz
 a e osservazione\,&nbsp\;<em>Doule. Prendersi cura delle maternità</em>&
 nbsp\;racconta con sensibilità e rigore la ricerca di uno spazio di rela
 zione autentico e di fiducia\, in cui le donne possano essere ascoltate\, 
 sostenute e riconosciute nei loro desideri.</p>
LOCATION:
END:VEVENT
END:VCALENDAR
