BEGIN:VCALENDAR
VERSION:2.0
PRODID:-//TYPO3/NONSGML Calendarize//EN
BEGIN:VEVENT
UID:calendarize-paolo-modolo-moving-records
DTSTAMP:20260421T150927Z
DTSTART:20260510T140000Z
DTEND:20260510T150000Z
SUMMARY:Paolo MODOLO - MOVING RECORDS
DESCRIPTION:Paolo Modolo presenta Karma Fields Records. Ne parla con Maur
 o Furlan   \nKarma Fields Records\, fondata nel 2025 da Paolo Modolo\, è
  un’etichetta indipendente e un rifugio creativo. Qui non si inseguono m
 ode\, ma emozioni. Non si producono hit\, ma verità.\n\n“Voglio occupar
 mi di tutto ciò che viene scartato  Il mio mercato sono io stesso Voglio
  dare voce a chi non si sente rappresentato”\n\nPaolo Modolo è attivo s
 ulla scena underground italiana dagli anni Novanta con band come Anarcotic
 i e In My June\, ha pubblicato diversi album e portato la propria musica i
 n tour in Italia e all’estero. Prosegue oggi il suo percorso artistico s
 otto lo pseudonimo Willy Wonka Was Weird\, sviluppando una ricerca che uni
 sce introspezione\, spiritualità e tensione espressiva. È di recente pu
 bblicazione “Quel soffio tra l’anarchia e il buddismo”\, la sua prim
 a raccolta poetica\, un viaggio intimo attraverso ricordi\, visioni e fram
 menti emotivi custoditi lungo un’intera vita. L’opera si muove tra ist
 into e consapevolezza\, mettendo a nudo paure\, contraddizioni e tensioni 
 interiori con una scrittura essenziale e diretta.
X-ALT-DESC;FMTTYPE=text/html:<p>Paolo Modolo presenta&nbsp\;<em><strong>Ka
 rma Fields Records</strong></em>. Ne parla con Mauro Furlan&nbsp\;<br /> &
 nbsp\;</p>\n<p>Karma Fields Records\, fondata nel 2025 da Paolo Modolo\, è
  un’etichetta indipendente e un rifugio creativo. Qui non si inseguono m
 ode\, ma emozioni. Non si producono hit\, ma verità.</p>\n\n<p>“Voglio 
 occuparmi di tutto ciò che viene scartato&nbsp\;<br /> Il mio mercato son
 o io stesso<br /> Voglio dare voce a chi non si sente rappresentato”</p>
 \n\n<p><strong>Paolo Modolo</strong> è attivo sulla scena underground ita
 liana dagli anni Novanta con band come Anarcotici e In My June\, ha pubbli
 cato diversi album e portato la propria musica in tour in Italia e all’e
 stero. Prosegue oggi il suo percorso artistico sotto lo pseudonimo Willy W
 onka Was Weird\, sviluppando una ricerca che unisce introspezione\, spirit
 ualità e tensione espressiva.&nbsp\;È di recente pubblicazione “Quel s
 offio tra l’anarchia e il buddismo”\, la sua prima raccolta poetica\, 
 un viaggio intimo attraverso ricordi\, visioni e frammenti emotivi custodi
 ti lungo un’intera vita. L’opera si muove tra istinto e consapevolezza
 \, mettendo a nudo paure\, contraddizioni e tensioni interiori con una scr
 ittura essenziale e diretta.</p>
LOCATION:
END:VEVENT
END:VCALENDAR
