BEGIN:VCALENDAR
VERSION:2.0
PRODID:-//TYPO3/NONSGML Calendarize//EN
BEGIN:VEVENT
UID:calendarize-pop-corn-bookclub-2-1
DTSTAMP:20260421T150753Z
DTSTART:20260520T170000Z
DTEND:20260520T180000Z
SUMMARY:POP CORN bookclub
DESCRIPTION:Nasce POP CORN\, il nostro nuovo bookclub dedicato al cinema\
 , in collaborazione con Cineforum Labirinto e Moving Records. Dove lettur
 e e visioni si incontrano\, e le storie si accendono di nuovi sguardi. Un
  percorso per esplorare insieme le storie che hanno ispirato il grande sch
 ermo: durante gli incontri leggeremo\, discuteremo e dialogheremo\, con p
 reziosi contributi cinematografici e musicali. Un vero viaggio nell’imma
 ginario\, tra pagine\, immagini e colonne sonore. Il primo ciclo sarà co
 mposto da tre appuntamenti: Fahrenheit 451 – Frankenstein – Queer.\n\
 nIl terzo appuntamento è con Queer - Mondadori editore. Desiderio\, ide
 ntità\, ossessione. Un viaggio visionario tra letteratura e cinema underg
 round\n\n\nPer partecipare è necessario acquistare il libro. Ai primi is
 critti che acquisteranno tutti e tre i titoli\, in omaggio un ingresso a u
 na delle lezioni Anatomia di un film. (v. locandina in fondo)\n\n
X-ALT-DESC;FMTTYPE=text/html:<p>Nasce&nbsp\;<strong>POP CORN</strong>\, il
  nostro nuovo bookclub dedicato al cinema\, in collaborazione con Cineforu
 m Labirinto e Moving Records.&nbsp\;<em><strong>Dove letture e visioni si 
 incontrano\, e le storie si accendono di nuovi sguardi.&nbsp\;</strong></e
 m>Un percorso per esplorare insieme le storie che hanno ispirato il grande
  schermo: durante gli incontri leggeremo\, discuteremo e dialogheremo\, co
 n&nbsp\;<strong>preziosi contributi cinematografici e musicali</strong>. U
 n vero viaggio nell’immaginario\, tra pagine\, immagini e colonne sonore
 .&nbsp\;Il primo ciclo sarà composto da tre appuntamenti:&nbsp\;<strong>F
 ahrenheit 451 – Frankenstein – Queer.</strong></p>\n\n<p>Il terzo appu
 ntamento è con&nbsp\;<strong>Queer&nbsp\;</strong>- Mondadori editore. De
 siderio\, identità\, ossessione. Un viaggio visionario tra letteratura e 
 cinema underground</p>\n\n\n<p><em>Per partecipare è necessario acquistar
 e il libro.</em>&nbsp\;Ai primi iscritti che acquisteranno tutti e tre i t
 itoli\, in omaggio un ingresso a una delle lezioni&nbsp\;<strong><em>Anato
 mia di un film.&nbsp\;</em></strong><em>(v. locandina in fondo)</em></p>\n
 \n
LOCATION:
END:VEVENT
END:VCALENDAR
