BEGIN:VCALENDAR
VERSION:2.0
PRODID:-//TYPO3/NONSGML Calendarize//EN
BEGIN:VEVENT
UID:calendarize-raffaella-romagnolo
DTSTAMP:20260421T150721Z
DTSTART:20260510T160000Z
DTEND:20260510T170000Z
SUMMARY:Raffaella ROMAGNOLO
DESCRIPTION:presenta La segreta cura - Mondadori editore. \n\n«Non avevo
  mai pensato tanto in vita mia a cosa succedeva sotto la mia pelle.» Che 
 quella allo specchio fosse un’immagine ingannevole\, che sotto la pelle 
 fossero in atto processi misteriosi e ineluttabili\, Raffaella Romagnolo l
 o ha scoperto a ventisette anni. E ci sono voluti quasi tre decenni dalla 
 diagnosi di sclerosi multipla perché decidesse di raccontare ciò che a l
 ungo è rimasto chiuso in un faldone di cartoncino rosso\, l’archivio pe
 rsonale della sua storia clinica. Fino ad accettare che convivere con una 
 malattia cronica significa modificare il proprio sguardo su se stessi e su
 l mondo. Ma comporta anche essere visti con occhi diversi. Qualche volta c
 on paura\, spesso con curiosità e comprensione: la fragilità\, che è di
  tutti gli umani\, non lascia indifferenti. \n\nRaffaella Romagnolo è n
 ata a Casale Monferrato nel 1971 e vive sulle colline tra Piemonte e Ligur
 ia. Tra i suoi romanzi: La masnà (2012\, ora riproposto negli Oscar Mon
 dadori)\, Tutta questa vita (2013)\, La figlia sbagliata (2015\, candi
 dato premio Strega 2016\, premio Società Lucchese dei Lettori 2016)\, De
 stino (2018)\, Di luce propria (2021\, premio Pisa)\, Il cedro del Lib
 ano (2023\, premio Campiello Natura). Respira con me (2019) è stato fi
 nalista al premio Strega Ragazzi e Ragazze 2020. Il romanzo Aggiustare l’
 universo (2023) è stato finalista al premio Strega 2024. Il suo racconto
  Come non sono diventata madre compare nella raccolta L’amore inevita
 bile. Storie di genitori\, storie di figli (2026). I suoi libri sono trad
 otti in sette lingue.
X-ALT-DESC;FMTTYPE=text/html:<p>presenta<em><strong> La segreta cura</stro
 ng></em> - Mondadori editore.&nbsp\;</p>\n\n<p>«Non avevo mai pensato tan
 to in vita mia a cosa succedeva sotto la mia pelle.» Che quella allo spec
 chio fosse un’immagine ingannevole\, che sotto la pelle fossero in atto 
 processi misteriosi e ineluttabili\, Raffaella Romagnolo lo ha scoperto a 
 ventisette anni. E ci sono voluti quasi tre decenni dalla diagnosi di scle
 rosi multipla perché decidesse di raccontare ciò che a lungo è rimasto 
 chiuso in un faldone di cartoncino rosso\, l’archivio personale della su
 a storia clinica. Fino ad accettare che convivere con una malattia cronica
  significa modificare il proprio sguardo su se stessi e sul mondo. Ma comp
 orta anche essere visti con occhi diversi. Qualche volta con paura\, spess
 o con curiosità e comprensione: la fragilità\, che è di tutti gli umani
 \, non lascia indifferenti.&nbsp\;</p>\n\n<p><strong>Raffaella Romagnolo</
 strong>&nbsp\;è nata a Casale Monferrato nel 1971 e vive sulle colline tr
 a Piemonte e Liguria. Tra i suoi romanzi:&nbsp\;<em>La masnà</em>&nbsp\;(
 2012\, ora riproposto negli Oscar Mondadori)\,&nbsp\;<em>Tutta questa vita
 </em>&nbsp\;(2013)\,&nbsp\;<em>La figlia sbagliata</em>&nbsp\;(2015\, cand
 idato premio Strega 2016\, premio Società Lucchese dei Lettori 2016)\,&nb
 sp\;<em>Destino</em>&nbsp\;(2018)\,&nbsp\;<em>Di luce propria</em>&nbsp\;(
 2021\, premio Pisa)\,&nbsp\;<em>Il cedro del Libano</em>&nbsp\;(2023\, pre
 mio Campiello Natura).&nbsp\;<em>Respira con me</em>&nbsp\;(2019) è stato
  finalista al premio Strega Ragazzi e Ragazze 2020. Il romanzo&nbsp\;<em>A
 ggiustare l’universo</em>&nbsp\;(2023) è stato finalista al premio Stre
 ga 2024. Il suo racconto&nbsp\;<em>Come non sono diventata madre</em>&nbsp
 \;compare nella raccolta&nbsp\;<em>L’amore inevitabile. Storie di genito
 ri\, storie di figli</em>&nbsp\;(2026). I suoi libri sono tradotti in sett
 e lingue.</p>
LOCATION:
END:VEVENT
END:VCALENDAR
