BEGIN:VCALENDAR
VERSION:2.0
PRODID:-//TYPO3/NONSGML Calendarize//EN
BEGIN:VEVENT
UID:calendarize-roberto-emanuelli-2
DTSTAMP:20260421T150605Z
DTSTART:20260508T160000Z
DTEND:20260508T170000Z
SUMMARY:Roberto EMANUELLI
DESCRIPTION:presenta Scegliti sempre - Feltrinelli editore. \n\nBeatrice 
 ha quarantuno anni\, un figlio adolescente e un matrimonio che lentamente 
 sembra incrinarsi. Negli anni\, stretta fra il ruolo di madre e un lavoro 
 che non ama\, ha messo da parte se stessa\, e ora si scopre noiosa\, svuot
 ata\, senza una vita propria. Quando Matteo la tradisce e la lascia\, Beat
 rice crolla. Accanto a lei\, però\, ci sono le amiche di sempre\, ancore 
 di salvezza che la riportano alla realtà. E poi c’è la madre\, che le 
 mostra che si può sopravvivere anche all’abbandono più devastante. Bea
 trice comincia a guardarsi indietro\, a collegare i fili\, a fare i conti 
 con quello che ha dentro. A raccogliere i pezzi\, a prendersi per mano. Ne
 lla scoperta che l’amore non è sacrificio. Non è mettersi da parte. È
  poter scegliere. Prima di tutto\, scegliere se stessi.\n\nRoberto Emanuel
 li è nato e vive a Roma. Ha esordito nel 2015 con Davanti agli occhi. Il
  suo secondo romanzo\, E allora baciami\, è stato uno straordinario caso
  editoriale\, seguito dai bestseller Buonanotte a te\, Tu\, ma per sempr
 e\, Adesso lo sai\, Volevo dirti delle stelle\, Quando tutto sembra imm
 obile\, Tutta la verità\, nient’altro che una bugia. Per Feltrinelli h
 a pubblicato Ora amati. Negli anni sono moltissimi i lettori che si sono 
 affezionati alle sue pagine. Per Sem è uscito Donne che si amano (2024)
 .
X-ALT-DESC;FMTTYPE=text/html:<p>presenta <em><strong>Scegliti sempre</stro
 ng></em> - Feltrinelli editore.&nbsp\;</p>\n\n<p>Beatrice ha quarantuno an
 ni\, un figlio adolescente e un matrimonio che lentamente sembra incrinars
 i. Negli anni\, stretta fra il ruolo di madre e un lavoro che non ama\, ha
  messo da parte se stessa\, e ora si scopre noiosa\, svuotata\, senza una 
 vita propria. Quando Matteo la tradisce e la lascia\, Beatrice crolla. Acc
 anto a lei\, però\, ci sono le amiche di sempre\, ancore di salvezza che 
 la riportano alla realtà. E poi c’è la madre\, che le mostra che si pu
 ò sopravvivere anche all’abbandono più devastante. Beatrice comincia a
  guardarsi indietro\, a collegare i fili\, a fare i conti con quello che h
 a dentro. A raccogliere i pezzi\, a prendersi per mano. Nella scoperta che
  l’amore non è sacrificio. Non è mettersi da parte. È poter scegliere
 . Prima di tutto\, scegliere se stessi.</p>\n\n<p><strong>Roberto Emanuell
 i </strong>è nato e vive a Roma. Ha esordito nel 2015 con&nbsp\;<em>Davan
 ti agli occhi</em>. Il suo secondo romanzo\,&nbsp\;<em>E allora baciami</e
 m>\, è stato uno straordinario caso editoriale\, seguito dai bestseller&n
 bsp\;<em>Buonanotte a te</em>\,&nbsp\;<em>Tu\, ma per sempre</em>\,&nbsp\;
 <em>Adesso lo sai</em>\,&nbsp\;<em>Volevo dirti delle stelle</em>\,&nbsp\;
 <em>Quando tutto sembra immobile</em>\,&nbsp\;<em>Tutta la verità\, nient
 ’altro che una bugia</em>. Per Feltrinelli ha pubblicato&nbsp\;<em>Ora a
 mati</em>. Negli anni sono moltissimi i lettori che si sono affezionati al
 le sue pagine. Per Sem è uscito&nbsp\;<em>Donne che si amano</em>&nbsp\;(
 2024).</p>
LOCATION:
END:VEVENT
END:VCALENDAR
