BEGIN:VCALENDAR
VERSION:2.0
PRODID:-//TYPO3/NONSGML Calendarize//EN
BEGIN:VEVENT
UID:calendarize-scienza-e-virgola-francesco-adami-e-roberta-villa-1
DTSTAMP:20260421T153107Z
DTSTART:20260507T150000Z
DTEND:20260507T160000Z
SUMMARY:SCIENZA E VIRGOLA - Francesco ADAMI e Roberta VILLA
DESCRIPTION:Evento in collaborazione con Scienza e Virgola - Festival del 
 libro scientifico.\n\nFrancesco Adami presenta Sette farmaci che hanno sa
 lvato il mondo - Hoepli editore\; Roberta Villa presenta Cattiva prevenzi
 one. I pericoli del consumismo sanitario - Chiare Lettere. Ne parlano con 
 Elena Meli. \n\nScreening\, prevenzione\, farmaci: quanto sappiamo davver
 o di ciò che promette di proteggerci dalla malattia o di aiutarci a cura
 rla? L’incontro parte da due libri che invitano a guardare in modo criti
 co e storico alla medicina contemporanea. In La cattiva prevenzione Robe
 rta Villa mette in discussione il mito della diagnosi precoce\, evidenzian
 do i rischi del consumismo sanitario. In Sette farmaci che hanno salvato
  il mondo Francesco Adami ripercorre la nascita di molecole decisive\, r
 accontando il passaggio dalle pratiche empiriche a quelle scientifiche
 . Due sguardi complementari per capire cure\, uso e false promesse. \nFr
 ancesco Adami\, studioso di storia della scienza e della medicina\, è 
 divulgatore e cofondatore di EnjoyTheScience.eu. \nRoberta Villa lavor
 a come giornalista scientifica sui temi della salute. Già direttrice de
 lla rivista «Uppa»\, collabora a Dottore\, ma è vero che…? È mol
 to attiva sui social dove unisce rigore scientifico e linguaggio access
 ibile. \nElena Meli\, biologa con un dottorato in farmacologia e tossicol
 ogia\, è giornalista professionista e collabora con «Corriere della Sera
  Salute»\, «Io Donna» e «Focus». 
X-ALT-DESC;FMTTYPE=text/html:<p>Evento in collaborazione con <strong>Scien
 za e Virgola - Festival del libro scientifico</strong>.</p>\n\n<p><strong>
 Francesco Adami</strong> presenta&nbsp\;<em><strong>Sette farmaci che hann
 o salvato il mondo</strong></em> - Hoepli editore\;<strong> Roberta Villa<
 /strong> presenta&nbsp\;<em><strong>Cattiva prevenzione. I pericoli del co
 nsumismo sanitario </strong></em>- Chiare Lettere. Ne parlano con Elena Me
 li.&nbsp\;</p>\n\n<p>Screening\, prevenzione\, farmaci: quanto sappiamo da
 vvero di ciò che promette di proteggerci dalla malattia&nbsp\;o di aiutar
 ci a curarla? L’incontro parte da due libri che invitano a guardare in m
 odo critico e storico alla medicina contemporanea. In&nbsp\;<em>La cattiva
  prevenzione</em>&nbsp\;Roberta Villa mette in discussione il mito della d
 iagnosi precoce\, evidenziando i rischi del consumismo sanitario. In&nbsp\
 ;<em>Sette farmaci che hanno&nbsp\;salvato&nbsp\;il mondo</em>&nbsp\;Franc
 esco Adami ripercorre la nascita di molecole decisive\, raccontando il pas
 saggio&nbsp\;dalle&nbsp\;pratiche empiriche a&nbsp\;quelle&nbsp\;scientifi
 che.&nbsp\;Due sguardi complementari per capire cure\, uso e false promess
 e.&nbsp\;</p>\n<p><strong>Francesco Adami</strong>\,&nbsp\;studioso di sto
 ria della scienza e della medicina\,&nbsp\;è&nbsp\;divulgatore e cofondat
 ore di&nbsp\;EnjoyTheScience.eu.&nbsp\;</p>\n<p><strong>Roberta&nbsp\;Vill
 a</strong>&nbsp\;lavora come&nbsp\;giornalista scientifica sui temi della 
 salute.&nbsp\;Già direttrice della rivista&nbsp\;«Uppa»\,&nbsp\;collabo
 ra a&nbsp\;<em>Dottore\, ma è vero che…?&nbsp\;</em>È molto attiva&nbs
 p\;sui social&nbsp\;dove&nbsp\;unisce rigore scientifico e linguaggio acce
 ssibile.&nbsp\;</p>\n<p><strong>Elena Meli</strong>\, biologa con un dotto
 rato in farmacologia e tossicologia\, è giornalista professionista e coll
 abora con «Corriere della Sera Salute»\, «Io Donna» e «Focus».&nbsp\
 ;</p>
LOCATION:
END:VEVENT
END:VCALENDAR
