BEGIN:VCALENDAR
VERSION:2.0
PRODID:-//TYPO3/NONSGML Calendarize//EN
BEGIN:VEVENT
UID:calendarize-scienza-e-virgola-francesco-adami-e-roberta-villa-2
DTSTAMP:20260421T151153Z
DTSTART:20260509T100000Z
DTEND:20260509T110000Z
SUMMARY:SCIENZA E VIRGOLA - Paola BONFANTE e Marco FERRARI
DESCRIPTION:Evento in collaborazione con Scienza e Virgola - Festival del 
 libro scientifico.\n\nPaola Bonfante presenta Piante\, noi e loro - Il 
 Mulino\; Marco Ferrari presenta Le piante non sono animali verdi - Boll
 ati Boringhieri. Ne parlano con Michele Bellone \n\nLe piante sono davver
 o intelligenti\, sensibili\, solidali tra loro\, oppure stiamo proiettando
  su di esse desideri e categorie umane? In Le piante non sono animali ver
 di\, Marco Ferrari smonta con rigore scientifico le narrazioni antropomorf
 e più diffuse\, mostrando perché attribuire coscienza e intenzionalità 
 alle piante rischia di tradire la complessità dell’evoluzione. In Pian
 te: noi e loro\, Paola Bonfante intreccia invece biologia\, mito\, arte ed
  esperienza personale per esplorare il legame profondo\, emotivo e cultura
 le che ci unisce alle piante. Due sguardi che\, insieme\, invitano a ripen
 sare cosa significa conoscere\, raccontare e abitare la natura. \nIn coll
 aborazione con vicino/lontano \nPaola Bonfante è docente di biologia 
 vegetale all’Università di Torino. Dagli anni ’70 studia le comunicaz
 ioni genetiche e molecolari tra piante\, funghi e batteri. \nMarco Ferrar
 i è biologo e giornalista in riviste scientifiche. È autore di L’ev
 oluzione è ovunque (2015) e Come costruire un alieno (2021). \nMichel
 e Bellone è giornalista scientifico. Appassionato di narrazioni e giochi
 \, si occupa di editoria\, festival e formazione. 
X-ALT-DESC;FMTTYPE=text/html:<p>Evento in collaborazione con <strong>Scien
 za e Virgola - Festival del libro scientifico</strong>.</p>\n\n<p><strong>
 Paola Bonfante&nbsp\;</strong>presenta&nbsp\;<strong><em>Piante\, noi e lo
 ro -&nbsp\;</em></strong>Il Mulino\; <strong>Marco Ferrari&nbsp\;</strong>
 presenta&nbsp\;<strong><em>Le piante non sono animali verdi&nbsp\;</em></s
 trong>- Bollati Boringhieri. Ne parlano con Michele Bellone&nbsp\;</p>\n\n
 <p>Le piante sono davvero intelligenti\, sensibili\, solidali tra loro\, o
 ppure stiamo proiettando su di esse desideri e categorie umane? In&nbsp\;<
 em>Le piante non sono animali verdi</em>\, Marco Ferrari smonta con rigore
  scientifico le narrazioni antropomorfe più diffuse\, mostrando perché a
 ttribuire coscienza e intenzionalità alle piante rischia di tradire la co
 mplessità dell’evoluzione. In&nbsp\;<em>Piante: noi e loro</em>\, Paola
  Bonfante intreccia invece biologia\, mito\, arte ed esperienza personale 
 per esplorare il legame profondo\, emotivo e culturale che ci unisce alle 
 piante. Due sguardi che\, insieme\, invitano a ripensare cosa significa co
 noscere\, raccontare e abitare la natura.&nbsp\;</p>\n<p>In collaborazione
  con vicino/lontano&nbsp\;</p>\n<p><strong>Paola Bonfante&nbsp\;</strong>è
 &nbsp\;docente&nbsp\;di biologia vegetale all’Università di Torino. Dag
 li anni ’70 studia le comunicazioni genetiche e molecolari tra piante\, 
 funghi e batteri.&nbsp\;</p>\n<p><strong>Marco Ferrari</strong><strong>&nb
 sp\;</strong>è biologo e giornalista in riviste scientifiche.&nbsp\;È au
 tore di&nbsp\;<em>L’evoluzione è ovunque</em>&nbsp\;(2015) e&nbsp\;<em>
 Come costruire un alieno</em>&nbsp\;(2021).&nbsp\;</p>\n<p><strong>Michele
  Bellone</strong>&nbsp\;è giornalista scientifico. Appassionato di narraz
 ioni e giochi\, si occupa di editoria\, festival e formazione.&nbsp\;</p>
LOCATION:
END:VEVENT
END:VCALENDAR
