BEGIN:VCALENDAR
VERSION:2.0
PRODID:-//TYPO3/NONSGML Calendarize//EN
BEGIN:VEVENT
UID:calendarize-scienza-e-virgola-francesco-adami-e-roberta-villa
DTSTAMP:20260421T151107Z
DTSTART:20260507T160000Z
DTEND:20260507T170000Z
SUMMARY:SCIENZA E VIRGOLA - Daniela MINERVA e Raffaella RUMIATI
DESCRIPTION:Evento in collaborazione con Scienza e Virgola - Festival del 
 libro scientifico.\n\nDaniela Minerva presenta Medicina Femminile Plurale
 . Il sapere delle donne nella storia - Bollati Boringhieri\; Raffaella Ru
 miati presenta La mente delle donne - Laterza. Ne parlano con Natalia Mil
 azzo  \n\nChe cosa significa diventare donna e quale ruolo hanno avuto l
 e donne nella costruzione del sapere scientifico e medico? L’incontro in
 treccia neuroscienze e storia della medicina. In La mente delle donne Ra
 ffaella Rumiati analizza l’identità femminile tra biologia e cultura\
 , ormoni e stereotipi\, mostrando come empatia\, sessualità e consenso 
 dipendano dal contesto sociale. In Medicina femminile plurale Daniela Mi
 nerva ricostruisce il contributo spesso invisibile delle donne allo svilup
 po della medicina\, un’impresa collettiva che ha dato forma alla modern
 ità. Due prospettive che smontano miti e gerarchie nel rapporto tra gener
 e\, scienza e diritti.  \nDaniela Minerva dirige la piattaforma Salute
  di «la Repubblica»\, «La Stampa» e GNN. Editorialista\, è tra le
  fondatrici di Donna e Scienza. \nRaffaella Rumiati è docente di Neu
 roscienze cognitive alla SISSA dove dirige il laboratorio Neuroscienze e 
 Società. Ha pubblicato circa 200 lavori su cervello e cognizione. \nNa
 talia Milazzo è giornalista\, da anni si occupa di informazione indipend
 ente basata su fonti scientifiche. È socia dell’agenzia Zadig e redat
 trice di «Scienza in rete». 
X-ALT-DESC;FMTTYPE=text/html:<p>Evento in collaborazione con <strong>Scien
 za e Virgola - Festival del libro scientifico</strong>.</p>\n\n<p><strong>
 Daniela Minerva</strong> presenta&nbsp\;<em><strong>Medicina Femminile Plu
 rale. Il sapere delle donne nella storia - </strong></em>Bollati Boringhie
 ri\;<strong>&nbsp\;Raffaella Rumiati </strong>presenta&nbsp\;<em><strong>L
 a mente delle donne - </strong></em>Laterza. Ne parlano con Natalia Milazz
 o&nbsp\;&nbsp\;</p>\n\n<p>Che cosa significa diventare donna e quale ruolo
  hanno avuto le donne nella costruzione del sapere scientifico e medico? L
 ’incontro intreccia neuroscienze e storia della medicina. In&nbsp\;<em>L
 a mente delle donne</em>&nbsp\;Raffaella&nbsp\;Rumiati&nbsp\;analizza l’
 identità femminile tra biologia e cultura\,&nbsp\;ormoni e stereotipi\,&n
 bsp\;mostrando come empatia\, sessualità e consenso dipendano dal contest
 o sociale. In&nbsp\;<em>Medicina femminile plurale</em>&nbsp\;Daniela Mine
 rva ricostruisce il contributo spesso invisibile delle donne allo sviluppo
  della medicina\, un’impresa collettiva&nbsp\;che ha dato forma alla mod
 ernità. Due prospettive che smontano miti e gerarchie nel rapporto tra ge
 nere\, scienza e diritti.&nbsp\;&nbsp\;</p>\n<p><strong>Daniela Minerva</s
 trong>&nbsp\;dirige la piattaforma&nbsp\;<em>Salute</em>&nbsp\;di&nbsp\;«
 la Repubblica»\,&nbsp\;«La Stampa»&nbsp\;e GNN. Editorialista\, è tra 
 le fondatrici di Donna e Scienza.&nbsp\;</p>\n<p><strong>Raffaella&nbsp\;R
 umiati</strong>&nbsp\;è&nbsp\;docente&nbsp\;di Neuroscienze cognitive all
 a SISSA&nbsp\;dove dirige il laboratorio Neuroscienze e Società. Ha pubbl
 icato&nbsp\;circa&nbsp\;200 lavori su cervello e cognizione.&nbsp\;</p>\n<
 p><strong>Natalia Milazzo</strong>&nbsp\;è giornalista\, da anni si occup
 a di informazione indipendente basata su fonti scientifiche. È socia dell
 ’agenzia&nbsp\;Zadig&nbsp\;e redattrice di&nbsp\;«Scienza in rete».&nb
 sp\;</p>
LOCATION:
END:VEVENT
END:VCALENDAR
