BEGIN:VCALENDAR
VERSION:2.0
PRODID:-//TYPO3/NONSGML Calendarize//EN
BEGIN:VEVENT
UID:calendarize-scienza-e-virgola-mario-colucci-e-marica-setaro
DTSTAMP:20260421T152014Z
DTSTART:20260509T160000Z
DTEND:20260509T170000Z
SUMMARY:SCIENZA E VIRGOLA - Mario COLUCCI e Marica SETARO
DESCRIPTION:Evento in collaborazione con Scienza e Virgola - Festival del
  libro scientifico.\n\nMario Colucci e Marica Setaro presentano Che cos'è
  la salute mentale? - Einaudi. Ne parlano con Nico Pitrelli. \n\nIl term
 ine “salute mentale”\, destinato a enorme fortuna\, nasce nel 1946\, 
 quando l’atto di costituzione dell’OMS la definisce parte integrante 
 della salute in generale. Tuttavia\, deve passare un ventennio prima che 
 quelle nobili intenzioni trovino concretezza in pratiche e sperimentazion
 i effettive. L’incontro affronta le profonde trasformazioni che hanno 
 interessato il campo psichiatrico\, orientando in direzioni nuove il cor
 so delle pratiche cliniche e delle esperienze professionali. \nMario Col
 ucci\, psichiatra e psicoanalista\, è direttore del Servizio Psichiatr
 ico di Diagnosi e Cura di Udine. Con Pierangelo Di Vittorio ha pubblicato 
 due volumi su Franco Basaglia. \nMarica Setaro si occupa di storia della
  psichiatria e di epistemologia storica dei concetti scientifici. Ha curat
 o il libro di inediti di Franco Basaglia\, Fare l'impossibile. Ragionando
  di psichiatria e di potere (2024). \nNico Pitrelli è responsabile del
 la comunicazione della SISSA e direttore del Master in Comunicazione della
  Scienza “Franco Prattico” della stessa istituzione. \n\n
X-ALT-DESC;FMTTYPE=text/html:<p>Evento in collaborazione con&nbsp\;<strong
 >Scienza e Virgola - Festival del libro scientifico</strong>.</p>\n\n<p>Ma
 rio Colucci e Marica Setaro presentano <em><strong>Che cos'è la salute me
 ntale?</strong></em>&nbsp\;- Einaudi. Ne parlano con Nico Pitrelli.&nbsp\;
 </p>\n\n<p>Il termine “salute mentale”\, destinato&nbsp\;a enorme fort
 una\, nasce nel 1946\, quando l’atto di costituzione dell’OMS la defin
 isce&nbsp\;parte integrante della salute in generale. Tuttavia\, deve pass
 are un ventennio&nbsp\;prima che quelle nobili intenzioni trovino&nbsp\;co
 ncretezza in pratiche e sperimentazioni&nbsp\;effettive. L’incontro affr
 onta le profonde&nbsp\;trasformazioni che hanno interessato il&nbsp\;campo
  psichiatrico\, orientando in direzioni&nbsp\;nuove il corso delle pratich
 e cliniche e delle&nbsp\;esperienze professionali.&nbsp\;</p>\n<p><strong>
 Mario Colucci\,&nbsp\;</strong>psichiatra e psicoanalista\, è direttore&n
 bsp\;del&nbsp\;Servizio Psichiatrico di Diagnosi e Cura di Udine. Con Pier
 angelo Di Vittorio ha pubblicato due volumi su Franco Basaglia.&nbsp\;</p>
 \n<p><strong>Marica Setaro</strong>&nbsp\;si occupa di storia della psichi
 atria e di epistemologia storica dei concetti scientifici. Ha curato il li
 bro di inediti di Franco Basaglia\,&nbsp\;<em>Fare l'impossibile. Ragionan
 do di psichiatria e di potere</em>&nbsp\;(2024).&nbsp\;</p>\n<p><strong>Ni
 co Pitrelli</strong>&nbsp\;è responsabile della comunicazione della SISSA
  e direttore del Master in Comunicazione della Scienza “Franco Prattico”
  della stessa istituzione.&nbsp\;</p>\n\n
LOCATION:
END:VEVENT
END:VCALENDAR
