BEGIN:VCALENDAR
VERSION:2.0
PRODID:-//TYPO3/NONSGML Calendarize//EN
BEGIN:VEVENT
UID:calendarize-scienza-e-virgola-martina-benedetti
DTSTAMP:20260421T150819Z
DTSTART:20260510T100000Z
DTEND:20260510T110000Z
SUMMARY:SCIENZA E VIRGOLA - Martina BENEDETTI
DESCRIPTION:Evento in collaborazione con Scienza e Virgola - Festival del
  libro scientifico.\n\nMartina Benedetti presenta La salute in un angolo -
  Dedalo. Ne parla con Giulia Basso.\n\nIl diritto alla salute è il fondam
 ento di una società giusta. Ma cosa succede quando il Servizio Sanitario 
 Nazionale viene smantellato pezzo dopo pezzo? La salute in un angolo è un
  viaggio nella Sanità italiana\, tra riduzione dei finanziamenti\, privat
 izzazioni e disuguaglianze crescenti. Con la lucidità e la passione di ch
 i vive la situazione dall’interno\, Martina Benedetti racconta la crisi 
 del nostro sistema sanitario smontando narrazioni politiche fuorvianti e p
 roponendo soluzioni concrete per restituire al cittadino una Sanità pubbl
 ica forte e universale.  \nMartina Benedetti\, è divulgatrice scientif
 ica e scrittrice. Editorialista su tematiche riguardanti sanità\, salute 
 e politica sanitaria sulle testate nazionali «Wired» e «Today.it». 
  \nGiulia Basso è giornalista ed esperta in comunicazione\, si occupa d
 i temi scientifici\, culturali\, d’attualità ed economia per testate lo
 cali e nazionali. 
X-ALT-DESC;FMTTYPE=text/html:<p>Evento in collaborazione con&nbsp\;<strong
 >Scienza e Virgola - Festival del libro scientifico</strong>.</p>\n\n<p><s
 trong>Martina Benedetti </strong>presenta <em><strong>La salute in un ango
 lo </strong></em>- Dedalo. Ne parla con Giulia Basso.</p>\n\n<p>Il diritto
  alla salute è il fondamento di una società giusta. Ma cosa succede quan
 do il Servizio Sanitario Nazionale viene smantellato pezzo dopo pezzo? La 
 salute in un angolo è un viaggio nella Sanità italiana\, tra riduzione d
 ei finanziamenti\, privatizzazioni e disuguaglianze crescenti. Con la luci
 dità e la passione di chi vive la situazione dall’interno\, Martina Ben
 edetti racconta la crisi del nostro sistema sanitario smontando narrazioni
  politiche fuorvianti e proponendo soluzioni concrete per restituire al ci
 ttadino una Sanità pubblica forte e universale.&nbsp\;&nbsp\;</p>\n<p><st
 rong>Martina Benedetti\,</strong>&nbsp\;è divulgatrice scientifica e scri
 ttrice. Editorialista su tematiche riguardanti sanità\, salute e politica
  sanitaria sulle testate nazionali&nbsp\;«Wired»&nbsp\;e&nbsp\;«Today.i
 t».&nbsp\;&nbsp\;</p>\n<p><strong>Giulia Basso&nbsp\;</strong>è giornali
 sta ed esperta in comunicazione\, si occupa di temi scientifici\, cultural
 i\, d’attualità ed economia per testate locali e nazionali. </p>
LOCATION:
END:VEVENT
END:VCALENDAR
