BEGIN:VCALENDAR
VERSION:2.0
PRODID:-//TYPO3/NONSGML Calendarize//EN
BEGIN:VEVENT
UID:calendarize-scienza-e-virgola-roberto-battiston
DTSTAMP:20260421T151756Z
DTSTART:20260509T150000Z
DTEND:20260509T160000Z
SUMMARY:SCIENZA E VIRGOLA - Roberto BATTISTON
DESCRIPTION:Evento in collaborazione con Scienza e Virgola - Festival del
  libro scientifico.\n\nRoberto Battiston presenta Energia. Una storia di c
 reazione e distruzione - Raffaello Cortina. Ne parla con Marta Abbà. \n\
 nL’energia è alla base di ogni società: la sua disponibilità\, il cos
 to e le fonti determinano sviluppo\, crisi e trasformazioni storiche. Comp
 rendere cos’è\, come si produce e come si utilizza aiuta a orientarsi t
 ra questioni che vanno dall’economia alla vita quotidiana\, dalle scelte
  energetiche personali alle politiche globali. Roberto Battiston racconta 
 il legame profondo tra scienza e società affrontando temi centrali del p
 resente per chiarire idee diffuse e rendere visibili connessioni spesso t
 rascurate. \nRoberto Battiston è docente di Fisica sperimentale all’
 Università di Trento. Si occupa di fisica spaziale e astroparticellare 
 ed è autore di saggi di divulgazione scientifica. \nMarta Abbà è gior
 nalista investigativa e fisica dell’ambiente\, con focus su diritti uman
 i\, climatici e digitali. Realizza reportage interdisciplinari e intersezi
 onali 
X-ALT-DESC;FMTTYPE=text/html:<p>Evento in collaborazione con&nbsp\;<strong
 >Scienza e Virgola - Festival del libro scientifico</strong>.</p>\n\n<p><s
 trong>Roberto Battiston</strong> presenta <em><strong>Energia. Una storia 
 di creazione e distruzione</strong></em> - Raffaello Cortina. Ne parla con
  Marta Abbà.&nbsp\;</p>\n\n<p>L’energia è alla base di ogni società: 
 la sua disponibilità\, il costo e le fonti determinano sviluppo\, crisi e
  trasformazioni storiche. Comprendere cos’è\, come si produce e come si
  utilizza aiuta a orientarsi tra questioni che vanno dall’economia alla 
 vita quotidiana\, dalle scelte energetiche personali alle politiche global
 i. Roberto Battiston racconta il legame profondo tra scienza e società af
 frontando temi centrali del&nbsp\;presente per&nbsp\;chiarire idee diffuse
  e rendere visibili connessioni spesso trascurate.&nbsp\;</p>\n<p><strong>
 Roberto Battiston</strong>&nbsp\;è&nbsp\;docente di Fisica sperimentale a
 ll’Università di Trento. Si occupa di&nbsp\;fisica spaziale e&nbsp\;ast
 roparticellare&nbsp\;ed è autore di saggi di divulgazione scientifica.&nb
 sp\;</p>\n<p><strong>Marta Abb</strong><strong>à</strong>&nbsp\;è giorna
 lista investigativa e fisica dell’ambiente\, con focus su diritti umani\
 , climatici e digitali. Realizza reportage interdisciplinari e intersezion
 ali&nbsp\;</p>
LOCATION:
END:VEVENT
END:VCALENDAR
