BEGIN:VCALENDAR
VERSION:2.0
PRODID:-//TYPO3/NONSGML Calendarize//EN
BEGIN:VEVENT
UID:calendarize-scienza-e-virgola-willy-guasti
DTSTAMP:20260421T150933Z
DTSTART:20260509T090000Z
DTEND:20260509T100000Z
SUMMARY:SCIENZA E VIRGOLA - Willy GUASTI
DESCRIPTION:Evento in collaborazione con Scienza e Virgola - Festival del
  libro scientifico.\n\nWilly Guasti presenta Spudorati parassiti - Codice.
  Ne parla con Marina d'Alessandro.\n\nParassiti\, pidocchi\, tenie e altri
  invasori sono spesso associati a disgusto e malattia\, ma ignorarli signi
 fica perdere uno degli spettacoli più sorprendenti della natura. Willy Gu
 asti solleva il tappeto sotto cui nascondiamo le nostre paure e racconta u
 n universo di creature dal successo evolutivo straordinario. Tra strategie
  estreme\, forme di vita spiazzanti e relazioni invisibili\,mostra quanto 
 l’impatto dei parassiti sugli ecosistemi\, e sulla nostra stessa evoluzi
 one\, sia profondo e sottovalutato. \nWilly Guasti è naturalista e divu
 lgatore scientifico. Gestisce Zoosparkle\, uno dei progetti dedicati ad a
 nimali\, evoluzione e paleontologia più seguiti in Italia.  \nMarina D’
 Alessandro è naturalista e comunicatrice scientifica. Fa parte dell’u
 fficio stampa dell’Istituto Nazionale di Oceanografia e di Geofisica S
 perimentale – OGS. 
X-ALT-DESC;FMTTYPE=text/html:<p>Evento in collaborazione con&nbsp\;<strong
 >Scienza e Virgola - Festival del libro scientifico</strong>.</p>\n\n<p><s
 trong>Willy Guasti </strong>presenta <em><strong>Spudorati parassiti</stro
 ng></em> - Codice. Ne parla con Marina d'Alessandro.</p>\n\n<p>Parassiti\,
  pidocchi\, tenie e altri invasori sono spesso associati a disgusto e mala
 ttia\, ma ignorarli significa perdere uno degli spettacoli più sorprenden
 ti della natura. Willy Guasti solleva il tappeto sotto cui nascondiamo le 
 nostre paure e racconta un universo di creature dal successo evolutivo str
 aordinario. Tra strategie estreme\, forme di vita spiazzanti e relazioni i
 nvisibili\,mostra quanto l’impatto dei parassiti sugli ecosistemi\, e su
 lla nostra stessa evoluzione\, sia profondo e sottovalutato.&nbsp\;</p>\n<
 p><strong>Willy Guasti&nbsp\;</strong>è naturalista e divulgatore scienti
 fico. Gestisce&nbsp\;Zoosparkle\, uno dei progetti dedicati ad animali\, e
 voluzione e paleontologia più seguiti in Italia.&nbsp\;&nbsp\;</p>\n<p><s
 trong>Marina D’Alessandro</strong>&nbsp\;è naturalista e comunicatrice 
 scientifica. Fa parte&nbsp\;dell’ufficio&nbsp\;stampa&nbsp\;dell’Istit
 uto Nazionale di Oceanografia e di Geofisica Sperimentale – OGS.&nbsp\;<
 /p>
LOCATION:
END:VEVENT
END:VCALENDAR
