BEGIN:VCALENDAR
VERSION:2.0
PRODID:-//TYPO3/NONSGML Calendarize//EN
BEGIN:VEVENT
UID:calendarize-scomodo-bookclub-luomo-duplicato
DTSTAMP:20260421T125059Z
DTSTART:20260429T170000Z
DTEND:20260429T180000Z
SUMMARY:SCOMODO bookclub - L'UOMO DUPLICATO
DESCRIPTION:Un gruppo di lettura pensato per tutti coloro che amano le let
 ture scomode\, inospitali e spesso disturbanti. Questo mese siamo con:\n 
 L'UOMO DUPLICATO di José Saramago (Feltrinelli)\nTertuliano Máximo Afons
 o\, professore di Storia di scuola media\, conduce una vita solitaria e no
 iosa\, fino al giorno in cui non scopre una cosa incredibile. Dietro consi
 glio di un collega\, noleggia una commedia leggera in videocassetta\, ed e
 ccolo faccia a faccia con una comparsa che\, ben più che somigliargli\, è
  proprio lui. Un'inquietante indagine sull'alter ego\, ricca di suspense 
 e di spunti di riflessione sull'identità\, nonché di svolte impreviste.\
 n\n A cura di 𝗥𝗘𝗡𝗔𝗧𝗔 e 𝗔𝗡𝗜𝗧𝗔.\n\nPer par
 tecipare basterà acquistare una copia del libro in libreria.\n-----------
 -- 𝐏𝐞𝐫 𝐢𝐬𝐜𝐫𝐢𝐯𝐞𝐫𝐬𝐢 𝐞 𝐩𝐞𝐫
  𝐭𝐮𝐭𝐭𝐞 𝐥𝐞 𝐢𝐧𝐟𝐨  renata@librerielovat.com
  
X-ALT-DESC;FMTTYPE=text/html:<p>Un gruppo di lettura pensato per tutti col
 oro che amano le letture scomode\, inospitali e spesso disturbanti.&nbsp\;
 Questo mese siamo con:</p>\n<p>&nbsp\;<strong>L'UOMO DUPLICATO</strong> di
  <em><strong>José Saramago</strong></em> (Feltrinelli)</p>\n<p>Tertuliano
  Máximo Afonso\, professore di Storia di scuola media\, conduce una vita 
 solitaria e noiosa\, fino al giorno in cui non scopre una cosa incredibile
 . Dietro consiglio di un collega\, noleggia una commedia leggera in videoc
 assetta\, ed eccolo faccia a faccia con una comparsa che\, ben più che so
 migliargli\, è proprio lui.&nbsp\;Un'inquietante indagine sull'alter ego\
 , ricca di suspense e di spunti di riflessione sull'identità\, nonché di
  svolte impreviste.</p>\n\n<p>&nbsp\;A cura di 𝗥𝗘𝗡𝗔𝗧𝗔 e 
 𝗔𝗡𝗜𝗧𝗔.</p>\n\n<p>Per partecipare basterà acquistare una co
 pia del libro in libreria.</p>\n<p>-------------<br /> 𝐏𝐞𝐫 𝐢𝐬
 𝐜𝐫𝐢𝐯𝐞𝐫𝐬𝐢 𝐞 𝐩𝐞𝐫 𝐭𝐮𝐭𝐭𝐞 𝐥
 𝐞 𝐢𝐧𝐟𝐨&nbsp\;<br /> renata@librerielovat.com&nbsp\;</p>
LOCATION:
END:VEVENT
END:VCALENDAR
