BEGIN:VCALENDAR
VERSION:2.0
PRODID:-//TYPO3/NONSGML Calendarize//EN
BEGIN:VEVENT
UID:calendarize-umberto-matino-1
DTSTAMP:20260421T150753Z
DTSTART:20260515T163000Z
DTEND:20260515T173000Z
SUMMARY:Umberto MATINO
DESCRIPTION:presenta Laguna Limes - Feltrinelli editore.  \n\nAl mattino
 \, dalla terrazza del garage comunale di piazzale Roma\, Venezia si apre c
 ome un sipario: la laguna brilla e\, all’orizzonte\, l’intero arco alp
 ino sembra a portata di mano. È da questo luogo sospeso tra acqua e cielo
  che prende avvio un intrigo in cui il Nordest mostra il suo doppio volto:
  operoso e feroce\, luminoso in superficie e torbido nel profondo. Due eni
 gmatici omicidi e un suicidio che puzza di messinscena scuotono la quiete 
 apparente della città. Gli indizi si rincorrono tra le valli e la sconfin
 ata campagna polesana\, rispettabili studi professionali e bar equivoci\, 
 antiche miniere d’argento e impenetrabili boschi che rimandano alla remo
 ta identità cimbra\, l’anima nascosta dell’Altovicentino\, l’eredit
 à germanica che incarna il Nordest più autentico e misterioso.\n\nUmbert
 o Matino è nato a Schio e vive a Padova. In diversi romanzi\, tra cui L
 a valle dell’orco (2007)\, L’ultima Anguàna (2011)\, Tutto è not
 te nera (2015)\, I Rossi (2018) e Giallo Palladio (2022)\, ha svelato
  i rimossi inconfessabili del Nordest e raccontato le storie delle minoran
 ze di antica origine alemanna: i cosiddetti Cimbri. Per Sem ha pubblicato 
 La cattiva terra (2024).
X-ALT-DESC;FMTTYPE=text/html:<p>presenta<em><strong> Laguna Limes </strong
 ></em>- Feltrinelli editore.&nbsp\;&nbsp\;</p>\n\n<p>Al mattino\, dalla te
 rrazza del garage comunale di piazzale Roma\, Venezia si apre come un sipa
 rio: la laguna brilla e\, all’orizzonte\, l’intero arco alpino sembra 
 a portata di mano. È da questo luogo sospeso tra acqua e cielo che prende
  avvio un intrigo in cui il Nordest mostra il suo doppio volto: operoso e 
 feroce\, luminoso in superficie e torbido nel profondo. Due enigmatici omi
 cidi e un suicidio che puzza di messinscena scuotono la quiete apparente d
 ella città. Gli indizi si rincorrono tra le valli e la sconfinata campagn
 a polesana\, rispettabili studi professionali e bar equivoci\, antiche min
 iere d’argento e impenetrabili boschi che rimandano alla remota identità
  cimbra\, l’anima nascosta dell’Altovicentino\, l’eredità germanica
  che incarna il Nordest più autentico e misterioso.</p>\n\n<p><strong>Umb
 erto Matino</strong>&nbsp\;è nato a Schio e vive a Padova. In diversi rom
 anzi\, tra cui&nbsp\;<em>La valle dell’orco</em>&nbsp\;(2007)\,&nbsp\;<e
 m>L’ultima Anguàna&nbsp\;</em>(2011)\,&nbsp\;<em>Tutto è notte nera</e
 m>&nbsp\;(2015)\,&nbsp\;<em>I Rossi</em>&nbsp\;(2018) e&nbsp\;<em>Giallo P
 alladio</em>&nbsp\;(2022)\, ha svelato i rimossi inconfessabili del Nordes
 t e raccontato le storie delle minoranze di antica origine alemanna: i cos
 iddetti Cimbri. Per Sem ha pubblicato&nbsp\;<em>La cattiva terra</em>&nbsp
 \;(2024).</p>
LOCATION:
END:VEVENT
END:VCALENDAR
