BEGIN:VCALENDAR
VERSION:2.0
PRODID:-//TYPO3/NONSGML Calendarize//EN
BEGIN:VEVENT
UID:calendarize-valeria-parrella-1
DTSTAMP:20260421T150737Z
DTSTART:20260522T160000Z
DTEND:20260522T170000Z
SUMMARY:Valeria PARRELLA
DESCRIPTION:presenta La ragazzina - Feltrinelli editore. \n\nVestita in a
 biti maschili – crimine che nel 1400 vale la scomunica –\, galoppa per
  riconquistare i territori che nel corso dell’estenuante guerra dei cent
 ’anni gli inglesi hanno sottratto alla Francia\, galoppa per rimettere i
 l Delfino sul trono. Galoppa in testa a un esercito che crede in lei\, per
 ché lei va alla guerra in modo diverso\, con clemenza verso i popoli\, la
 sciando la battaglia ai soldati\, pregando e cercando giustizia. Perché p
 rima di reggere la spada e lo stendardo\, lei giocava con i fratelli\, asc
 oltava storie\, faceva sogni bellissimi e parlava con sua mamma. Perché p
 rima di tutto lei è una ragazzina.\n\nValeria Parrella (1974) vive a Napo
 li. È autrice di romanzi\, racconti\, drammaturgie e libretti d’opera. 
 Fra questi\, ricordiamo: mosca più balena (minimum fax\, 2003\; Premio 
 Campiello Opera Prima)\, Per grazia ricevuta (minimum fax\, 2005\; final
 ista nella cinquina del Premio Strega e Premio Renato Fucini)\, Lo spazio
  bianco (Einaudi 2008\, 2010 e 2018)\, da cui Francesca Comencini ha trat
 to l’omonimo film\, e Almarina (Einaudi\, 2019\; finalista nella cinqu
 ina del Premio Strega). Per Feltrinelli ha pubblicato La Fortuna (2022\,
  Premio letterario internazionale Mondello – Opera Italiana). Da anni co
 llabora con “Grazia” e “la Repubblica”. Cura la Posta dei sentimen
 ti su “Oggi”
X-ALT-DESC;FMTTYPE=text/html:<p>presenta <em><strong>La ragazzina </strong
 ></em>- Feltrinelli editore.&nbsp\;</p>\n\n<p>Vestita in abiti maschili –
  crimine che nel 1400 vale la scomunica –\, galoppa per riconquistare i 
 territori che nel corso dell’estenuante guerra dei cent’anni gli ingle
 si hanno sottratto alla Francia\, galoppa per rimettere il Delfino sul tro
 no. Galoppa in testa a un esercito che crede in lei\, perché lei va alla 
 guerra in modo diverso\, con clemenza verso i popoli\, lasciando la battag
 lia ai soldati\, pregando e cercando giustizia. Perché prima di reggere l
 a spada e lo stendardo\, lei giocava con i fratelli\, ascoltava storie\, f
 aceva sogni bellissimi e parlava con sua mamma. Perché prima di tutto lei
  è una ragazzina.</p>\n\n<p><strong>Valeria Parrella </strong>(1974) vive
  a Napoli. È autrice di romanzi\, racconti\, drammaturgie e libretti d’
 opera. Fra questi\, ricordiamo:&nbsp\;<em>mosca più balena</em>&nbsp\;(mi
 nimum fax\, 2003\; Premio Campiello Opera Prima)\,&nbsp\;<em>Per grazia ri
 cevuta</em>&nbsp\;(minimum fax\, 2005\; finalista nella cinquina del Premi
 o Strega e Premio Renato Fucini)\,&nbsp\;<em>Lo spazio bianco</em>&nbsp\;(
 Einaudi 2008\, 2010 e 2018)\, da cui Francesca Comencini ha tratto l’omo
 nimo film\, e&nbsp\;<em>Almarina&nbsp\;</em>(Einaudi\, 2019\; finalista ne
 lla cinquina del Premio Strega). Per Feltrinelli ha pubblicato&nbsp\;<em>L
 a Fortuna</em>&nbsp\;(2022\, Premio letterario internazionale Mondello –
  Opera Italiana). Da anni collabora con “Grazia” e “la Repubblica”
 . Cura la Posta dei sentimenti su “Oggi”</p>
LOCATION:
END:VEVENT
END:VCALENDAR
