BEGIN:VCALENDAR
VERSION:2.0
PRODID:-//TYPO3/NONSGML Calendarize//EN
BEGIN:VEVENT
UID:calendarize-venanzio-postiglione
DTSTAMP:20260421T161127Z
DTSTART:20260523T160000Z
DTEND:20260523T170000Z
SUMMARY:Venanzio POSTIGLIONE
DESCRIPTION:presenta Le dieci parole tradite - Solferino. Ne parla con Fr
 ancesco De Filippo\n\nCi sono parole alla base della nostra civiltà. Lo s
 pecchio di noi stessi. Il vice direttore del «Corriere della Sera» Venan
 zio Postiglione parte dalla nascita: l’etimologia\, i miti più belli\, 
 il valore originario. Racconta la storia: come sono cresciute e cambiate\,
  gli autori che le hanno scoperte e riscoperte con entusiasmo. Fino a oggi
 . Tradite\, stravolte\, irriconoscibili. La democrazia che diventa illiber
 ale\, la misura perduta\, il pianeta offeso e dimenticato\, il talento chi
 uso a chiave\, la verità sommersa dalle falsità. Così come la felicità
  che non è più un bene pubblico\, la fraternità sparita anche dai sogni
 \, la libertà travolta dall’odio social\, la parità uomo-donna prigion
 iera degli stereotipi\, la pace stracciata e umiliata. \n\nVENANZIO POSTI
 GLIONE è vice direttore del «Corriere della Sera»: è entrato a vent’
 anni in via Solferino per concorso\, ha seguito i grandi fatti di politica
 \, esteri e cronaca come inviato\, editorialista\, anima del quotidiano. H
 a fondato e dirige la Scuola di giornalismo “Walter Tobagi” dell’Uni
 versità Statale di Milano.
X-ALT-DESC;FMTTYPE=text/html:<p>presenta&nbsp\;<em><strong>Le dieci parole
  tradite</strong></em> - Solferino. Ne parla con Francesco De Filippo</p>\
 n\n<p>Ci sono parole alla base della nostra civiltà. Lo specchio di noi s
 tessi. Il vice direttore del «Corriere della Sera» Venanzio Postiglione 
 parte dalla nascita: l’etimologia\, i miti più belli\, il valore origin
 ario. Racconta la storia: come sono cresciute e cambiate\, gli autori che 
 le hanno scoperte e riscoperte con entusiasmo. Fino a oggi. Tradite\, stra
 volte\, irriconoscibili. La democrazia che diventa illiberale\, la misura 
 perduta\, il pianeta offeso e dimenticato\, il talento chiuso a chiave\, l
 a verità sommersa dalle falsità. Così come la felicità che non è più
  un bene pubblico\, la fraternità sparita anche dai sogni\, la libertà t
 ravolta dall’odio social\, la parità uomo-donna prigioniera degli stere
 otipi\, la pace stracciata e umiliata.&nbsp\;</p>\n\n<p><strong>VENANZIO P
 OSTIGLIONE</strong>&nbsp\;è vice direttore del «Corriere della Sera»: è
  entrato a vent’anni in via Solferino per concorso\, ha seguito i grandi
  fatti di politica\, esteri e cronaca come inviato\, editorialista\, anima
  del quotidiano. Ha fondato e dirige la Scuola di giornalismo “Walter To
 bagi” dell’Università Statale di Milano.</p>
LOCATION:
END:VEVENT
END:VCALENDAR
